<?xml version="1.0" encoding="UTF-8" standalone="no"?>
<metadata xml:lang="sv">
<Esri>
<MetaID>{7A1ACCF5-8E30-45E3-BFCA-3814F0FCF972}</MetaID>
<CreaDate>20070813</CreaDate>
<CreaTime>09414300</CreaTime>
<SyncOnce>FALSE</SyncOnce>
<DataProperties>
</DataProperties>
<SyncDate>20101004</SyncDate>
<SyncTime>16332400</SyncTime>
<ModDate>20101004</ModDate>
<ModTime>16332400</ModTime>
</Esri>
<idinfo>
<native Sync="FALSE">ESRI ArcCatalog 9.3.1.3500</native>
<descript>
<langdata Sync="TRUE">sv</langdata>
<abstract>Ortofoto i färg över Bergaåsen, Ljungby från 2006 flyghöjd 4800 m. Pixelupplösning 0,5 m</abstract>
</descript>
<citation>
<citeinfo>
<origin>Lantmäteriet, Gävle</origin>
<pubdate>2006</pubdate>
<title Sync="TRUE">RASTER.BERGAASEN_F_2006</title>
<ftname Sync="TRUE">RASTER.BERGAASEN_F_2006</ftname>
<geoform Sync="TRUE">SDE raster digital data</geoform>
<onlink Sync="FALSE">withheld</onlink>
</citeinfo>
</citation>
<timeperd>
<current>REQUIRED: The basis on which the time period of content information is determined.</current>
<timeinfo>
<sngdate>
<caldate>REQUIRED: The year (and optionally month, or month and day) for which the data set corresponds to the ground.</caldate>
</sngdate>
</timeinfo>
</timeperd>
<status>
<progress>Komplett</progress>
</status>
<spdom>
<bounding>
<westbc Sync="TRUE">13.965625</westbc>
<eastbc Sync="TRUE">14.033959</eastbc>
<northbc Sync="TRUE">56.987777</northbc>
<southbc Sync="TRUE">56.932967</southbc>
</bounding>
<lboundng>
<leftbc Sync="TRUE">1388000.000000</leftbc>
<rightbc Sync="TRUE">1392000.000000</rightbc>
<bottombc Sync="TRUE">6313300.000000</bottombc>
<topbc Sync="TRUE">6319300.000000</topbc>
</lboundng>
</spdom>
<keywords>
<theme>
<themekt>REQUIRED: Reference to a formally registered thesaurus or a similar authoritative source of theme keywords.</themekt>
<themekey>Ortofoto</themekey>
<themekey>2006</themekey>
<themekey>färg</themekey>
<themekey>Bergaåsen, Ljungby</themekey>
<themekey>flygfoto</themekey>
</theme>
</keywords>
<accconst>REQUIRED: Restrictions and legal prerequisites for accessing the data set.</accconst>
<useconst>REQUIRED: Restrictions and legal prerequisites for using the data set after access is granted.</useconst>
<natvform Sync="FALSE"/>
</idinfo>
<dataIdInfo>
<envirDesc Sync="FALSE">ESRI ArcCatalog 9.3.1.3500</envirDesc>
<dataLang>
<languageCode Sync="TRUE" value="sv">
</languageCode>
</dataLang>
<idCitation>
<resTitle Sync="TRUE">RASTER.BERGAASEN_F_2006</resTitle>
<presForm>
<PresFormCd Sync="TRUE" value="005">
</PresFormCd>
</presForm>
</idCitation>
<dataExt>
<geoEle>
<GeoBndBox esriExtentType="native">
<westBL Sync="TRUE">1388000</westBL>
<eastBL Sync="TRUE">1392000</eastBL>
<northBL Sync="TRUE">6319300</northBL>
<southBL Sync="TRUE">6313300</southBL>
<exTypeCode Sync="TRUE">1</exTypeCode>
</GeoBndBox>
</geoEle>
</dataExt>
<geoBox esriExtentType="decdegrees">
<westBL Sync="TRUE">13.965625</westBL>
<eastBL Sync="TRUE">14.033959</eastBL>
<northBL Sync="TRUE">56.987777</northBL>
<southBL Sync="TRUE">56.932967</southBL>
<exTypeCode Sync="TRUE">1</exTypeCode>
</geoBox>
<spatRpType>
<SpatRepTypCd Sync="TRUE" value="002">
</SpatRepTypCd>
</spatRpType>
<idAbs>Ortofoto i färg över Bergaåsen, Ljungby från 2006 flyghöjd 4800 m. Pixelupplösning 0,5 m</idAbs>
<searchKeys>
<keyword>Ortofoto</keyword>
<keyword>2006</keyword>
<keyword>färg</keyword>
<keyword>Bergaåsen</keyword>
<keyword>Ljungby</keyword>
<keyword>flygfoto</keyword>
</searchKeys>
<idPurp/>
<idCredit/>
<resConst>
<Consts>
<useLimit/>
</Consts>
</resConst>
</dataIdInfo>
<metainfo>
<langmeta Sync="TRUE">sv</langmeta>
<metstdn Sync="TRUE">FGDC Content Standards for Digital Geospatial Metadata</metstdn>
<metstdv Sync="TRUE">FGDC-STD-001-1998</metstdv>
<mettc Sync="TRUE">local time</mettc>
<metc>
<cntinfo>
<cntorgp>
<cntper>REQUIRED: The person responsible for the metadata information.</cntper>
<cntorg>REQUIRED: The organization responsible for the metadata information.</cntorg>
</cntorgp>
<cntaddr>
<addrtype>REQUIRED: The mailing and/or physical address for the organization or individual.</addrtype>
<city>REQUIRED: The city of the address.</city>
<state>REQUIRED: The state or province of the address.</state>
<postal>REQUIRED: The ZIP or other postal code of the address.</postal>
</cntaddr>
<cntvoice>REQUIRED: The telephone number by which individuals can speak to the organization or individual.</cntvoice>
</cntinfo>
</metc>
<metd Sync="TRUE">20101004</metd>
<metextns>
<onlink Sync="TRUE">http://www.esri.com/metadata/esriprof80.html</onlink>
<metprof Sync="TRUE">ESRI Metadata Profile</metprof>
</metextns>
</metainfo>
<mdLang>
<languageCode Sync="TRUE" value="sv">
</languageCode>
</mdLang>
<mdStanName Sync="TRUE">ISO 19115 Geographic Information - Metadata</mdStanName>
<mdStanVer Sync="TRUE">DIS_ESRI1.0</mdStanVer>
<mdChar>
<CharSetCd Sync="TRUE" value="004">
</CharSetCd>
</mdChar>
<mdHrLv>
<ScopeCd Sync="TRUE" value="005">
</ScopeCd>
</mdHrLv>
<mdHrLvName Sync="TRUE">dataset</mdHrLvName>
<distinfo>
<resdesc Sync="TRUE">Downloadable Data</resdesc>
<distrib>
<cntinfo>
<cntorgp>
<cntorg>Lantmäteriet, Gävle</cntorg>
</cntorgp>
</cntinfo>
</distrib>
</distinfo>
<distInfo>
<distributor>
<distorTran>
<onLineSrc>
<orDesc Sync="TRUE">002</orDesc>
<linkage Sync="FALSE">withheld</linkage>
</onLineSrc>
</distorTran>
<distorFormat>
<formatName Sync="FALSE"/>
</distorFormat>
</distributor>
</distInfo>
<spdoinfo>
<direct Sync="TRUE">Raster</direct>
<rastinfo>
<rasttype Sync="TRUE">Pixel</rasttype>
<rowcount Sync="TRUE">12000</rowcount>
<colcount Sync="TRUE">8000</colcount>
<rastxsz Sync="TRUE">0.500000</rastxsz>
<rastysz Sync="TRUE">0.500000</rastysz>
<rastbpp Sync="TRUE">8</rastbpp>
<vrtcount Sync="TRUE">1</vrtcount>
<rastorig Sync="TRUE">Upper Left</rastorig>
<rastcmap Sync="TRUE">FALSE</rastcmap>
<rastcomp Sync="TRUE">LZ77</rastcomp>
<rastband Sync="TRUE">3</rastband>
<rastdtyp Sync="TRUE">pixel codes</rastdtyp>
<rastifor Sync="TRUE">SDR</rastifor>
<rastplyr Sync="TRUE">TRUE</rastplyr>
</rastinfo>
</spdoinfo>
<spref>
<horizsys>
<cordsysn>
<geogcsn Sync="TRUE">GCS_RT_1990</geogcsn>
<projcsn Sync="TRUE">RT90_25_gon_V</projcsn>
</cordsysn>
<planar>
<planci>
<plance Sync="TRUE">row and column</plance>
<plandu Sync="TRUE">meters</plandu>
<coordrep>
<absres Sync="TRUE">0.500000</absres>
<ordres Sync="TRUE">0.500000</ordres>
</coordrep>
</planci>
<mapproj>
<mapprojn Sync="TRUE">Transverse Mercator</mapprojn>
<transmer>
<sfctrmer Sync="TRUE">1.000000</sfctrmer>
<longcm Sync="TRUE">15.808278</longcm>
<latprjo Sync="TRUE">0.000000</latprjo>
<feast Sync="TRUE">1500000.000000</feast>
<fnorth Sync="TRUE">0.000000</fnorth>
</transmer>
</mapproj>
</planar>
<geodetic>
<horizdn Sync="TRUE">D_RT_1990</horizdn>
<ellips Sync="TRUE">Bessel_1841</ellips>
<semiaxis Sync="TRUE">6377397.155000</semiaxis>
<denflat Sync="TRUE">299.152813</denflat>
</geodetic>
</horizsys>
<vertdef>
<altsys>
<altenc Sync="TRUE">Explicit elevation coordinate included with horizontal coordinates</altenc>
<altres Sync="TRUE">0.001000</altres>
</altsys>
</vertdef>
</spref>
<refSysInfo>
<RefSystem>
<refSysID>
<identCode Sync="TRUE">RT90_25_gon_V</identCode>
</refSysID>
</RefSystem>
</refSysInfo>
<mdDateSt Sync="TRUE">20101004</mdDateSt>
</metadata>
