{
 "currentVersion": 11.3,
 "serviceDescription": "Ortofoto i färg över Bergaåsen, Ljungby från 2006 flyghöjd 4800 m. Pixelupplösning 0,5 m",
 "name": "Flygfoton/BERGAASEN_2006",
 "description": "Ortofoto i färg över Bergaåsen, Ljungby från 2006 flyghöjd 4800 m. Pixelupplösning 0,5 m",
 "extent": {
  "xmin": 1388000,
  "ymin": 6313300,
  "xmax": 1392000,
  "ymax": 6319300,
  "spatialReference": {
   "wkid": 3021,
   "latestWkid": 3021
  }
 },
 "initialExtent": {
  "xmin": 1388000,
  "ymin": 6313300,
  "xmax": 1392000,
  "ymax": 6319300,
  "spatialReference": {
   "wkid": 3021,
   "latestWkid": 3021
  }
 },
 "fullExtent": {
  "xmin": 1388000,
  "ymin": 6313300,
  "xmax": 1392000,
  "ymax": 6319300,
  "spatialReference": {
   "wkid": 3021,
   "latestWkid": 3021
  }
 },
 "sortableFields": "",
 "bandCount": 3,
 "pixelType": "U8",
 "minValues": [],
 "maxValues": [],
 "meanValues": [],
 "stdvValues": [],
 "hasMultidimensions": false,
 "pixelSizeX": 0.5,
 "pixelSizeY": 0.5,
 "meanPixelSize": 0.5,
 "datasetFormat": "SDR",
 "uncompressedSize": 288000000,
 "blockWidth": 128,
 "blockHeight": 128,
 "compressionType": "LZ77",
 "bandNames": [
  "Band_1",
  "Band_2",
  "Band_3"
 ],
 "allowCopy": true,
 "allowAnalysis": true,
 "itemAccess": false,
 "inspectionCapabilities": "",
 "minPixelSize": 0,
 "maxPixelSize": 0,
 "copyrightText": "",
 "serviceDataType": "esriImageServiceDataTypeRGB",
 "serviceSourceType": "esriImageServiceSourceTypeDataset",
 "objectIdField": "",
 "fields": [],
 "capabilities": "Image,Metadata,Mensuration",
 "defaultMosaicMethod": "Center",
 "allowedMosaicMethods": "",
 "sortField": "",
 "sortValue": null,
 "sortAscending": true,
 "mosaicOperator": "First",
 "defaultCompressionQuality": 75,
 "defaultResamplingMethod": "Bilinear",
 "maxImageHeight": 4100,
 "maxImageWidth": 15000,
 "allowRasterFunction": true,
 "rasterFunctionInfos": [
  {
   "name": "None",
   "description": "",
   "help": ""
  }
 ],
 "rasterTypeInfos": [
  {
   "name": "Raster Dataset",
   "description": "Supports all ArcGIS Raster Datasets",
   "help": ""
  }
 ],
 "mensurationCapabilities": "Basic",
 "hasHistograms": false,
 "hasColormap": false,
 "hasRasterAttributeTable": false,
 "minScale": 0,
 "maxScale": 0,
 "exportTilesAllowed": false,
 "supportsStatistics": false,
 "supportsAdvancedQueries": false,
 "editFieldsInfo": null,
 "ownershipBasedAccessControlForRasters": null,
 "allowComputeTiePoints": false,
 "useStandardizedQueries": true,
 "advancedQueryCapabilities": {
  "useStandardizedQueries": true,
  "supportsStatistics": false,
  "supportsOrderBy": false,
  "supportsDistinct": false,
  "supportsPagination": false
 },
 "spatialReference": {
  "wkid": 3021,
  "latestWkid": 3021
 }
}
