<?xml version="1.0" encoding="UTF-8" standalone="no"?>
<metadata xml:lang="sv">
<Esri>
<CreaDate>20180427</CreaDate>
<CreaTime>11402300</CreaTime>
<ArcGISFormat>1.0</ArcGISFormat>
<ArcGISstyle>INSPIRE Metadata Directive</ArcGISstyle>
<SyncOnce>FALSE</SyncOnce>
<DataProperties>
<itemProps>
<itemName Sync="FALSE">Ortofoto_1959_1964</itemName>
<nativeExtBox>
<westBL Sync="TRUE">115000.000000</westBL>
<eastBL Sync="TRUE">165000.000000</eastBL>
<southBL Sync="TRUE">6275000.000000</southBL>
<northBL Sync="TRUE">6350000.000000</northBL>
<exTypeCode Sync="TRUE">1</exTypeCode>
</nativeExtBox>
</itemProps>
<coordRef>
<type Sync="TRUE">Projected</type>
<geogcsn Sync="TRUE">GCS_SWEREF99</geogcsn>
<csUnits Sync="TRUE">Linear Unit: Meter (1.000000)</csUnits>
<projcsn Sync="TRUE">SWEREF99_15_00</projcsn>
<peXml Sync="TRUE">&lt;ProjectedCoordinateSystem xsi:type='typens:ProjectedCoordinateSystem' xmlns:xsi='http://www.w3.org/2001/XMLSchema-instance' xmlns:xs='http://www.w3.org/2001/XMLSchema' xmlns:typens='http://www.esri.com/schemas/ArcGIS/10.1'&gt;&lt;WKT&gt;PROJCS[&amp;quot;SWEREF99_15_00&amp;quot;,GEOGCS[&amp;quot;GCS_SWEREF99&amp;quot;,DATUM[&amp;quot;D_SWEREF99&amp;quot;,SPHEROID[&amp;quot;GRS_1980&amp;quot;,6378137.0,298.257222101]],PRIMEM[&amp;quot;Greenwich&amp;quot;,0.0],UNIT[&amp;quot;Degree&amp;quot;,0.0174532925199433]],PROJECTION[&amp;quot;Transverse_Mercator&amp;quot;],PARAMETER[&amp;quot;False_Easting&amp;quot;,150000.0],PARAMETER[&amp;quot;False_Northing&amp;quot;,0.0],PARAMETER[&amp;quot;Central_Meridian&amp;quot;,15.0],PARAMETER[&amp;quot;Scale_Factor&amp;quot;,1.0],PARAMETER[&amp;quot;Latitude_Of_Origin&amp;quot;,0.0],UNIT[&amp;quot;Meter&amp;quot;,1.0],AUTHORITY[&amp;quot;EPSG&amp;quot;,3009]]&lt;/WKT&gt;&lt;XOrigin&gt;-5473200&lt;/XOrigin&gt;&lt;YOrigin&gt;-10002100&lt;/YOrigin&gt;&lt;XYScale&gt;450265407.00157917&lt;/XYScale&gt;&lt;ZOrigin&gt;-100000&lt;/ZOrigin&gt;&lt;ZScale&gt;10000&lt;/ZScale&gt;&lt;MOrigin&gt;-100000&lt;/MOrigin&gt;&lt;MScale&gt;10000&lt;/MScale&gt;&lt;XYTolerance&gt;0.001&lt;/XYTolerance&gt;&lt;ZTolerance&gt;0.001&lt;/ZTolerance&gt;&lt;MTolerance&gt;0.001&lt;/MTolerance&gt;&lt;HighPrecision&gt;true&lt;/HighPrecision&gt;&lt;WKID&gt;3009&lt;/WKID&gt;&lt;LatestWKID&gt;3009&lt;/LatestWKID&gt;&lt;/ProjectedCoordinateSystem&gt;</peXml>
</coordRef>
<RasterProperties>
<General>
<PixelDepth Sync="TRUE">8</PixelDepth>
<HasColormap Sync="TRUE">FALSE</HasColormap>
<CompressionType Sync="TRUE">None</CompressionType>
<NumBands Sync="TRUE">1</NumBands>
<Format Sync="TRUE">AMD</Format>
<HasPyramids Sync="TRUE">TRUE</HasPyramids>
<SourceType Sync="TRUE">continuous</SourceType>
<PixelType Sync="TRUE">unsigned integer</PixelType>
<NoDataValue Sync="TRUE">
</NoDataValue>
</General>
<Properties>
<MaxImageHeight Sync="TRUE">4100</MaxImageHeight>
<MaxImageWidth Sync="TRUE">15000</MaxImageWidth>
<MaxRecordCount Sync="TRUE">1000</MaxRecordCount>
<MaxDownloadImageCount Sync="TRUE">20</MaxDownloadImageCount>
<MaxDownloadSizeLimit Sync="TRUE">2048</MaxDownloadSizeLimit>
<MaxMosaicImageCount Sync="TRUE">20</MaxMosaicImageCount>
<DefaultCompressionQuality Sync="TRUE">75</DefaultCompressionQuality>
<DefaultCompressionTolerance Sync="TRUE">0,01</DefaultCompressionTolerance>
<BlendWidth Sync="TRUE">10</BlendWidth>
<ViewpointSpacingX Sync="TRUE">600</ViewpointSpacingX>
<ViewpointSpacingY Sync="TRUE">300</ViewpointSpacingY>
<AllowedItemMetadata Sync="TRUE">Basic</AllowedItemMetadata>
<DefaultResamplingMethod Sync="TRUE">1</DefaultResamplingMethod>
<AllowedMosaicMethods Sync="TRUE">NorthWest,Center,LockRaster,ByAttribute,Nadir,Viewpoint,Seamline,None</AllowedMosaicMethods>
<AllowedCompressions Sync="TRUE">None,JPEG,LZ77,LERC</AllowedCompressions>
<AllowedMensurationCapabilities Sync="TRUE">None,Basic</AllowedMensurationCapabilities>
<AvailableMensurationCapabilities Sync="TRUE">None,Basic,Base-Top Height,Top-Top Shadow Height,Base-Top Shadow Height,3D</AvailableMensurationCapabilities>
<ClipToBoundary Sync="TRUE">-1</ClipToBoundary>
<FootprintMayContainNoData Sync="TRUE">-1</FootprintMayContainNoData>
<CellSizeTolerance Sync="TRUE">0,8</CellSizeTolerance>
<MinimumPixelContribution Sync="TRUE">1</MinimumPixelContribution>
<AvailableMosaicMethods Sync="TRUE">NorthWest,Center,LockRaster,ByAttribute,Nadir,Viewpoint,Seamline,None</AvailableMosaicMethods>
<AvailableCompressionMethods Sync="TRUE">None,JPEG,LZ77,LERC</AvailableCompressionMethods>
<AvailableItemMetadataLevels Sync="TRUE">None,Basic,Full</AvailableItemMetadataLevels>
<ConfigKeyword Sync="TRUE">
</ConfigKeyword>
<BandDefinitionKeyword Sync="TRUE">NONE</BandDefinitionKeyword>
<AllowedFields Sync="TRUE">NAME,MINPS,MAXPS,LOWPS,HIGHPS,TAG,GROUPNAME,PRODUCTNAME,CENTERX,CENTERY,ZORDER,SHAPE.AREA,SHAPE.LEN</AllowedFields>
<MaxCellSize Sync="TRUE">24300</MaxCellSize>
<LowCellSize Sync="TRUE">0,5</LowCellSize>
<HighCellSize Sync="TRUE">486</HighCellSize>
</Properties>
<Functions Sync="TRUE">
<Function Description="Utför en mosaik i realtid på en rasterkatalog." Name="Funktionen Mosaik">
</Function>
</Functions>
</RasterProperties>
</DataProperties>
<SyncDate>20160427</SyncDate>
<SyncTime>08412000</SyncTime>
<ModDate>20160427</ModDate>
<ModTime>8475800</ModTime>
<scaleRange>
<minScale>150000000</minScale>
<maxScale>5000</maxScale>
</scaleRange>
<ArcGISProfile>INSPIRE</ArcGISProfile>
</Esri>
<dataIdInfo>
<envirDesc Sync="FALSE">Esri ArcGIS 10.1.1.3143</envirDesc>
<dataLang>
<languageCode Sync="TRUE" value="swe">
</languageCode>
<countryCode Sync="TRUE" value="SWE">
</countryCode>
</dataLang>
<idCitation>
<resTitle Sync="FALSE">Historiska ortofoto 1959, 1961 och 1964</resTitle>
<presForm>
<PresFormCd Sync="TRUE" value="005">
</PresFormCd>
</presForm>
</idCitation>
<spatRpType>
<SpatRepTypCd Sync="TRUE" value="002">
</SpatRepTypCd>
</spatRpType>
<dataExt>
<geoEle>
<GeoBndBox esriExtentType="search">
<exTypeCode Sync="TRUE">1</exTypeCode>
<westBL Sync="TRUE">14.419885</westBL>
<eastBL Sync="TRUE">15.248627</eastBL>
<northBL Sync="TRUE">57.270164</northBL>
<southBL Sync="TRUE">56.595360</southBL>
</GeoBndBox>
</geoEle>
</dataExt>
<idPurp>Historiska ortogonalprojicerade flygbilder (ortofoton) finns endast i svartvitt (sv/v) med upplösningen 0,5 m (lokala avvikelser kan dock förekomma beroende på...</idPurp>
<searchKeys>
<keyword>historiska</keyword>
<keyword>ortofoto</keyword>
<keyword>1959</keyword>
<keyword>1961</keyword>
<keyword>1964</keyword>
<keyword>sv/v</keyword>
</searchKeys>
<idAbs/>
<idCredit/>
<resConst>
<Consts>
<useLimit/>
</Consts>
</resConst>
</dataIdInfo>
<mdLang>
<languageCode Sync="TRUE" value="swe">
</languageCode>
<countryCode Sync="TRUE" value="SWE">
</countryCode>
</mdLang>
<refSysInfo>
<RefSystem>
<refSysID>
<identCode Sync="TRUE" code="3009">
</identCode>
<idCodeSpace Sync="TRUE">EPSG</idCodeSpace>
<idVersion Sync="TRUE">7.11.2</idVersion>
</refSysID>
</RefSystem>
</refSysInfo>
<spatRepInfo>
<Georect>
<cellGeo>
<CellGeoCd Sync="TRUE" value="002">
</CellGeoCd>
</cellGeo>
<numDims Sync="TRUE">2</numDims>
<tranParaAv Sync="TRUE">1</tranParaAv>
<chkPtAv Sync="TRUE">0</chkPtAv>
<cornerPts>
<pos Sync="TRUE">115000.000000 6275000.000000</pos>
</cornerPts>
<cornerPts>
<pos Sync="TRUE">115000.000000 6350000.000000</pos>
</cornerPts>
<cornerPts>
<pos Sync="TRUE">165000.000000 6350000.000000</pos>
</cornerPts>
<cornerPts>
<pos Sync="TRUE">165000.000000 6275000.000000</pos>
</cornerPts>
<centerPt>
<pos Sync="TRUE">140000.000000 6312500.000000</pos>
</centerPt>
<axisDimension type="002">
<dimSize Sync="TRUE">100000</dimSize>
<dimResol>
<value Sync="TRUE" uom="Meter">0.500000</value>
</dimResol>
</axisDimension>
<axisDimension type="001">
<dimSize Sync="TRUE">150000</dimSize>
<dimResol>
<value Sync="TRUE" uom="Meter">0.500000</value>
</dimResol>
</axisDimension>
<ptInPixel>
<PixOrientCd Sync="TRUE" value="001">
</PixOrientCd>
</ptInPixel>
</Georect>
</spatRepInfo>
<contInfo>
<ImgDesc>
<contentTyp>
<ContentTypCd Sync="TRUE" value="001">
</ContentTypCd>
</contentTyp>
<covDim>
<Band>
<dimDescrp Sync="TRUE">Band_1</dimDescrp>
<maxVal Sync="TRUE">255.000000</maxVal>
<minVal Sync="TRUE">0.000000</minVal>
<bitsPerVal Sync="TRUE">8</bitsPerVal>
<valUnit>
<UOM type="length">
</UOM>
</valUnit>
</Band>
</covDim>
</ImgDesc>
</contInfo>
<mdDateSt Sync="TRUE">20160427</mdDateSt>
</metadata>
