{
 "currentVersion": 11.3,
 "serviceDescription": "Flygfoton/Flygfoto_2006_Vaxjo_kommun",
 "name": "Flygfoton/Flygfoto_2006_Vaxjo_kommun",
 "description": "",
 "extent": {
  "xmin": 114986.02708703,
  "ymin": 6272538.5221233,
  "xmax": 164986.02708703,
  "ymax": 6347539.0221233,
  "spatialReference": {
   "wkid": 3009,
   "latestWkid": 3009
  }
 },
 "initialExtent": {
  "xmin": 114986.02708703,
  "ymin": 6272538.5221233,
  "xmax": 164986.02708703,
  "ymax": 6347539.0221233,
  "spatialReference": {
   "wkid": 3009,
   "latestWkid": 3009
  }
 },
 "fullExtent": {
  "xmin": 114986.02708703,
  "ymin": 6272538.5221233,
  "xmax": 164986.02708703,
  "ymax": 6347539.0221233,
  "spatialReference": {
   "wkid": 3009,
   "latestWkid": 3009
  }
 },
 "sortableFields": "",
 "bandCount": 3,
 "pixelType": "U8",
 "minValues": [],
 "maxValues": [],
 "meanValues": [],
 "stdvValues": [],
 "hasMultidimensions": false,
 "pixelSizeX": 0.5,
 "pixelSizeY": 0.5,
 "meanPixelSize": 0.5,
 "datasetFormat": "SDR",
 "uncompressedSize": 45000300000,
 "blockWidth": 128,
 "blockHeight": 128,
 "compressionType": "LZ77",
 "bandNames": [
  "Band_1",
  "Band_2",
  "Band_3"
 ],
 "allowCopy": true,
 "allowAnalysis": true,
 "itemAccess": false,
 "inspectionCapabilities": "",
 "minPixelSize": 0,
 "maxPixelSize": 0,
 "copyrightText": "",
 "serviceDataType": "esriImageServiceDataTypeRGB",
 "serviceSourceType": "esriImageServiceSourceTypeDataset",
 "objectIdField": "",
 "fields": [],
 "capabilities": "Image,Metadata,Mensuration",
 "defaultMosaicMethod": "Center",
 "allowedMosaicMethods": "",
 "sortField": "",
 "sortValue": null,
 "sortAscending": true,
 "mosaicOperator": "First",
 "defaultCompressionQuality": 75,
 "defaultResamplingMethod": "Bilinear",
 "maxImageHeight": 4100,
 "maxImageWidth": 15000,
 "allowRasterFunction": true,
 "rasterFunctionInfos": [
  {
   "name": "None",
   "description": "",
   "help": ""
  }
 ],
 "rasterTypeInfos": [
  {
   "name": "Raster Dataset",
   "description": "Supports all ArcGIS Raster Datasets",
   "help": ""
  }
 ],
 "mensurationCapabilities": "Basic",
 "hasHistograms": false,
 "hasColormap": false,
 "hasRasterAttributeTable": false,
 "minScale": 0,
 "maxScale": 0,
 "exportTilesAllowed": false,
 "supportsStatistics": false,
 "supportsAdvancedQueries": false,
 "editFieldsInfo": null,
 "ownershipBasedAccessControlForRasters": null,
 "allowComputeTiePoints": false,
 "useStandardizedQueries": true,
 "advancedQueryCapabilities": {
  "useStandardizedQueries": true,
  "supportsStatistics": false,
  "supportsOrderBy": false,
  "supportsDistinct": false,
  "supportsPagination": false
 },
 "spatialReference": {
  "wkid": 3009,
  "latestWkid": 3009
 }
}
