{ "currentVersion": 11.3, "serviceDescription": "
O<\/SPAN>rtofoto från Lantmäteriet med 0,25 cm pixelstorlek från 201<\/SPAN>6<\/SPAN><\/P> <\/P><\/DIV><\/DIV><\/DIV>",
"name": "Flygfoton/Flygfoto_Vaxjo_kommun_2016",
"description": " O<\/SPAN>rtofoto från Lantmäteriet med 0,25 cm pixelstorlek från 201<\/SPAN>6<\/SPAN><\/P> <\/P><\/DIV><\/DIV><\/DIV>",
"extent": {
"xmin": 150000,
"ymin": 6275000,
"xmax": 167500,
"ymax": 6345000,
"spatialReference": {
"wkid": 3009,
"latestWkid": 3009
}
},
"initialExtent": {
"xmin": 150000,
"ymin": 6275000,
"xmax": 167500,
"ymax": 6345000,
"spatialReference": {
"wkid": 3009,
"latestWkid": 3009
}
},
"fullExtent": {
"xmin": 150000,
"ymin": 6275000,
"xmax": 167500,
"ymax": 6345000,
"spatialReference": {
"wkid": 3009,
"latestWkid": 3009
}
},
"sortableFields": "",
"bandCount": 3,
"pixelType": "U8",
"minValues": [
0,
0,
1
],
"maxValues": [
230,
239,
254
],
"meanValues": [
67.6625733765214,
70.7842015466623,
63.066445267457674
],
"stdvValues": [
29.22840158201288,
27.15809876223621,
27.502130373786052
],
"hasMultidimensions": false,
"pixelSizeX": 0.25,
"pixelSizeY": 0.25,
"meanPixelSize": 0.25,
"datasetFormat": "AMD",
"uncompressedSize": 58800000000,
"blockWidth": 2048,
"blockHeight": 256,
"compressionType": "None",
"bandNames": [
"Band_1",
"Band_2",
"Band_3"
],
"allowCopy": true,
"allowAnalysis": true,
"itemAccess": false,
"inspectionCapabilities": "",
"minPixelSize": 0,
"maxPixelSize": 0,
"copyrightText": "Lantmäteriet",
"serviceDataType": "esriImageServiceDataTypeRGB",
"serviceSourceType": "esriImageServiceSourceTypeMosaicDataset",
"objectIdField": "OBJECTID",
"fields": [
{
"name": "OBJECTID",
"type": "esriFieldTypeOID",
"alias": "OBJECTID",
"domain": null
},
{
"name": "NAME",
"type": "esriFieldTypeString",
"alias": "NAME",
"domain": null,
"length": 50
},
{
"name": "MINPS",
"type": "esriFieldTypeDouble",
"alias": "MINPS",
"domain": null
},
{
"name": "MAXPS",
"type": "esriFieldTypeDouble",
"alias": "MAXPS",
"domain": null
},
{
"name": "LOWPS",
"type": "esriFieldTypeDouble",
"alias": "LOWPS",
"domain": null
},
{
"name": "HIGHPS",
"type": "esriFieldTypeDouble",
"alias": "HIGHPS",
"domain": null
},
{
"name": "CATEGORY",
"type": "esriFieldTypeInteger",
"alias": "CATEGORY",
"domain": {
"type": "codedValue",
"name": "MosaicCatalogItemCategoryDomain",
"description": "Kategorier för katalogobjekt.",
"codedValues": [
{
"name": "Unknown",
"code": 0
},
{
"name": "Primary",
"code": 1
},
{
"name": "Overview",
"code": 2
},
{
"name": "Unprocessed Overview",
"code": 3
},
{
"name": "Partial Overview",
"code": 4
},
{
"name": "Uploaded",
"code": 253
},
{
"name": "Incomplete",
"code": 254
},
{
"name": "Custom",
"code": 255
}
],
"mergePolicy": "esriMPTDefaultValue",
"splitPolicy": "esriSPTDefaultValue"
}
},
{
"name": "TAG",
"type": "esriFieldTypeString",
"alias": "TAG",
"domain": null,
"length": 20
},
{
"name": "GROUPNAME",
"type": "esriFieldTypeString",
"alias": "GROUPNAME",
"domain": null,
"length": 50
},
{
"name": "PRODUCTNAME",
"type": "esriFieldTypeString",
"alias": "PRODUCTNAME",
"domain": null,
"length": 50
},
{
"name": "CENTERX",
"type": "esriFieldTypeDouble",
"alias": "CENTERX",
"domain": null
},
{
"name": "CENTERY",
"type": "esriFieldTypeDouble",
"alias": "CENTERY",
"domain": null
},
{
"name": "ZORDER",
"type": "esriFieldTypeInteger",
"alias": "ZORDER",
"domain": null
},
{
"name": "SHAPE",
"type": "esriFieldTypeGeometry",
"alias": "SHAPE",
"domain": null
}
],
"capabilities": "Image,Metadata,Catalog",
"defaultMosaicMethod": "Northwest",
"allowedMosaicMethods": "NorthWest,Center,LockRaster,ByAttribute,Nadir,Viewpoint,Seamline,None",
"sortField": "",
"sortValue": null,
"sortAscending": true,
"mosaicOperator": "First",
"maxDownloadSizeLimit": 2048,
"defaultCompressionQuality": 75,
"defaultResamplingMethod": "Bilinear",
"maxImageHeight": 4100,
"maxImageWidth": 15000,
"maxRecordCount": 1000,
"maxDownloadImageCount": 20,
"maxMosaicImageCount": 20,
"allowRasterFunction": true,
"rasterFunctionInfos": [
{
"name": "None",
"description": "",
"help": ""
}
],
"rasterTypeInfos": [
{
"name": "Raster Dataset",
"description": "Supports all ArcGIS Raster Datasets",
"help": ""
}
],
"mensurationCapabilities": "None",
"hasHistograms": true,
"hasColormap": false,
"hasRasterAttributeTable": false,
"minScale": 0,
"maxScale": 0,
"exportTilesAllowed": false,
"supportsStatistics": true,
"supportsAdvancedQueries": true,
"editFieldsInfo": null,
"ownershipBasedAccessControlForRasters": null,
"allowComputeTiePoints": false,
"useStandardizedQueries": true,
"advancedQueryCapabilities": {
"useStandardizedQueries": true,
"supportsStatistics": true,
"supportsOrderBy": true,
"supportsDistinct": true,
"supportsPagination": true
},
"spatialReference": {
"wkid": 3009,
"latestWkid": 3009
}
}