<?xml version="1.0" encoding="UTF-8" standalone="no"?>
<metadata xml:lang="sv">
<Esri>
<CreaDate>20180417</CreaDate>
<CreaTime>09413900</CreaTime>
<ArcGISFormat>1.0</ArcGISFormat>
<SyncOnce>FALSE</SyncOnce>
<DataProperties>
<itemProps>
<itemName Sync="TRUE">flygfoto_2017</itemName>
<nativeExtBox>
<westBL Sync="TRUE">138560.500000</westBL>
<eastBL Sync="TRUE">139730.250000</eastBL>
<southBL Sync="TRUE">6305174.000000</southBL>
<northBL Sync="TRUE">6306111.500000</northBL>
<exTypeCode Sync="TRUE">1</exTypeCode>
</nativeExtBox>
<imsContentType Sync="TRUE">002</imsContentType>
</itemProps>
<coordRef>
<type Sync="TRUE">Projected</type>
<geogcsn Sync="TRUE">GCS_SWEREF99</geogcsn>
<csUnits Sync="TRUE">Linear Unit: Meter (1.000000)</csUnits>
<projcsn Sync="TRUE">SWEREF99_15_00</projcsn>
<peXml Sync="TRUE">&lt;ProjectedCoordinateSystem xsi:type='typens:ProjectedCoordinateSystem' xmlns:xsi='http://www.w3.org/2001/XMLSchema-instance' xmlns:xs='http://www.w3.org/2001/XMLSchema' xmlns:typens='http://www.esri.com/schemas/ArcGIS/10.7'&gt;&lt;WKT&gt;PROJCS[&amp;quot;SWEREF99_15_00&amp;quot;,GEOGCS[&amp;quot;GCS_SWEREF99&amp;quot;,DATUM[&amp;quot;D_SWEREF99&amp;quot;,SPHEROID[&amp;quot;GRS_1980&amp;quot;,6378137.0,298.257222101]],PRIMEM[&amp;quot;Greenwich&amp;quot;,0.0],UNIT[&amp;quot;Degree&amp;quot;,0.0174532925199433]],PROJECTION[&amp;quot;Transverse_Mercator&amp;quot;],PARAMETER[&amp;quot;False_Easting&amp;quot;,150000.0],PARAMETER[&amp;quot;False_Northing&amp;quot;,0.0],PARAMETER[&amp;quot;Central_Meridian&amp;quot;,15.0],PARAMETER[&amp;quot;Scale_Factor&amp;quot;,1.0],PARAMETER[&amp;quot;Latitude_Of_Origin&amp;quot;,0.0],UNIT[&amp;quot;Meter&amp;quot;,1.0],AUTHORITY[&amp;quot;EPSG&amp;quot;,3009]]&lt;/WKT&gt;&lt;XOrigin&gt;-5473200&lt;/XOrigin&gt;&lt;YOrigin&gt;-10002100&lt;/YOrigin&gt;&lt;XYScale&gt;450265407.00157917&lt;/XYScale&gt;&lt;ZOrigin&gt;-100000&lt;/ZOrigin&gt;&lt;ZScale&gt;10000&lt;/ZScale&gt;&lt;MOrigin&gt;-100000&lt;/MOrigin&gt;&lt;MScale&gt;10000&lt;/MScale&gt;&lt;XYTolerance&gt;0.001&lt;/XYTolerance&gt;&lt;ZTolerance&gt;0.001&lt;/ZTolerance&gt;&lt;MTolerance&gt;0.001&lt;/MTolerance&gt;&lt;HighPrecision&gt;true&lt;/HighPrecision&gt;&lt;WKID&gt;3009&lt;/WKID&gt;&lt;LatestWKID&gt;3009&lt;/LatestWKID&gt;&lt;/ProjectedCoordinateSystem&gt;</peXml>
</coordRef>
<RasterProperties>
<General>
<PixelDepth Sync="TRUE">8</PixelDepth>
<HasColormap Sync="TRUE">FALSE</HasColormap>
<CompressionType Sync="TRUE">None</CompressionType>
<NumBands Sync="TRUE">3</NumBands>
<Format Sync="TRUE">AMD</Format>
<HasPyramids Sync="TRUE">TRUE</HasPyramids>
<SourceType Sync="TRUE">continuous</SourceType>
<PixelType Sync="TRUE">unsigned integer</PixelType>
<NoDataValue Sync="TRUE">
</NoDataValue>
</General>
<Properties>
<MaxImageHeight Sync="TRUE">4100</MaxImageHeight>
<MaxImageWidth Sync="TRUE">15000</MaxImageWidth>
<MaxRecordCount Sync="TRUE">1000</MaxRecordCount>
<MaxDownloadImageCount Sync="TRUE">20</MaxDownloadImageCount>
<MaxDownloadSizeLimit Sync="TRUE">2048</MaxDownloadSizeLimit>
<MaxMosaicImageCount Sync="TRUE">20</MaxMosaicImageCount>
<DefaultCompressionQuality Sync="TRUE">75</DefaultCompressionQuality>
<DefaultCompressionTolerance Sync="TRUE">0,01</DefaultCompressionTolerance>
<BlendWidth Sync="TRUE">10</BlendWidth>
<ViewpointSpacingX Sync="TRUE">600</ViewpointSpacingX>
<ViewpointSpacingY Sync="TRUE">300</ViewpointSpacingY>
<AllowedItemMetadata Sync="TRUE">Basic</AllowedItemMetadata>
<DefaultResamplingMethod Sync="TRUE">1</DefaultResamplingMethod>
<AllowedMosaicMethods Sync="TRUE">NorthWest,Center,LockRaster,ByAttribute,Nadir,Viewpoint,Seamline,None</AllowedMosaicMethods>
<AllowedCompressions Sync="TRUE">None,JPEG,LZ77,LERC</AllowedCompressions>
<AllowedMensurationCapabilities Sync="TRUE">None</AllowedMensurationCapabilities>
<AvailableMensurationCapabilities Sync="TRUE">None,Basic,Base-Top Height,Top-Top Shadow Height,Base-Top Shadow Height,3D</AvailableMensurationCapabilities>
<ClipToBoundary Sync="TRUE">-1</ClipToBoundary>
<FootprintMayContainNoData Sync="TRUE">-1</FootprintMayContainNoData>
<CellSizeTolerance Sync="TRUE">0,8</CellSizeTolerance>
<MinimumPixelContribution Sync="TRUE">1</MinimumPixelContribution>
<AvailableMosaicMethods Sync="TRUE">NorthWest,Center,LockRaster,ByAttribute,Nadir,Viewpoint,Seamline,None</AvailableMosaicMethods>
<AvailableCompressionMethods Sync="TRUE">None,JPEG,LZ77,LERC</AvailableCompressionMethods>
<AvailableItemMetadataLevels Sync="TRUE">None,Basic,Full</AvailableItemMetadataLevels>
<ConfigKeyword Sync="TRUE">
</ConfigKeyword>
<BandDefinitionKeyword Sync="TRUE">NONE</BandDefinitionKeyword>
<AllowedFields Sync="TRUE">NAME,MINPS,MAXPS,LOWPS,HIGHPS,TAG,GROUPNAME,PRODUCTNAME,CENTERX,CENTERY,ZORDER,SHAPE.AREA,SHAPE.LEN</AllowedFields>
<MaxCellSize Sync="TRUE">9112,5</MaxCellSize>
<LowCellSize Sync="TRUE">0,25</LowCellSize>
<HighCellSize Sync="TRUE">182,25</HighCellSize>
</Properties>
<Functions Sync="TRUE">
<Function Description="Utför en mosaik i realtid på en rasterkatalog." Name="Funktionen Mosaik">
</Function>
</Functions>
</RasterProperties>
</DataProperties>
<SyncDate>20190926</SyncDate>
<SyncTime>15384200</SyncTime>
<ModDate>20190926</ModDate>
<ModTime>15384200</ModTime>
<scaleRange>
<minScale>150000000</minScale>
<maxScale>5000</maxScale>
</scaleRange>
<ArcGISProfile>ItemDescription</ArcGISProfile>
<Service Sync="TRUE">GSD_ORTOFOTO25_2017</Service>
<ServiceType Sync="TRUE">image</ServiceType>
</Esri>
<dataIdInfo>
<dataLang>
<languageCode Sync="TRUE" value="swe">
</languageCode>
<countryCode Sync="TRUE" value="SWE">
</countryCode>
</dataLang>
<idCitation>
<resTitle Sync="FALSE">GSD_ORTOFOTO25_2017</resTitle>
<presForm>
<PresFormCd Sync="TRUE" value="011">
</PresFormCd>
</presForm>
</idCitation>
<spatRpType>
<SpatRepTypCd Sync="TRUE" value="002">
</SpatRepTypCd>
</spatRpType>
<dataExt>
<geoEle>
<GeoBndBox esriExtentType="search">
<exTypeCode Sync="TRUE">1</exTypeCode>
<westBL Sync="TRUE">14.812388</westBL>
<eastBL Sync="TRUE">14.831610</eastBL>
<northBL Sync="TRUE">56.875941</northBL>
<southBL Sync="TRUE">56.867495</southBL>
</GeoBndBox>
</geoEle>
</dataExt>
<idPurp>Ortofoto från Lantmäteriet med 0,25 cm pixelstorlek från 2017</idPurp>
<idAbs>&lt;DIV STYLE="text-align:Left;"&gt;&lt;DIV&gt;&lt;P&gt;&lt;SPAN&gt;Ortofoto från Lantmäteriet med &lt;/SPAN&gt;&lt;SPAN&gt;0&lt;/SPAN&gt;&lt;SPAN&gt;,25 cm pixelstorlek från 2017&lt;/SPAN&gt;&lt;/P&gt;&lt;/DIV&gt;&lt;/DIV&gt;</idAbs>
<idCredit>Lantmäteriet</idCredit>
<searchKeys>
<keyword>Ortofoto</keyword>
<keyword>Lantmäteriet</keyword>
<keyword>0</keyword>
<keyword>25 cm pixel</keyword>
<keyword>2017</keyword>
</searchKeys>
<envirDesc Sync="TRUE"> Version 6.2 (Build 9200) ; Esri ArcGIS 10.7.1.11595</envirDesc>
<resConst>
<Consts>
<useLimit/>
</Consts>
</resConst>
</dataIdInfo>
<mdLang>
<languageCode Sync="TRUE" value="swe">
</languageCode>
<countryCode Sync="TRUE" value="SWE">
</countryCode>
</mdLang>
<mdChar>
<CharSetCd Sync="TRUE" value="004">
</CharSetCd>
</mdChar>
<refSysInfo>
<RefSystem>
<refSysID>
<identCode Sync="TRUE" code="3009">
</identCode>
<idCodeSpace Sync="TRUE">EPSG</idCodeSpace>
<idVersion Sync="TRUE">7.4.4(9.0.0)</idVersion>
</refSysID>
</RefSystem>
</refSysInfo>
<spatRepInfo>
<Georect>
<cellGeo>
<CellGeoCd Sync="TRUE" value="002">
</CellGeoCd>
</cellGeo>
<numDims Sync="TRUE">2</numDims>
<tranParaAv Sync="TRUE">1</tranParaAv>
<chkPtAv Sync="TRUE">0</chkPtAv>
<cornerPts>
<pos Sync="TRUE">115000.000000 6277500.000000</pos>
</cornerPts>
<cornerPts>
<pos Sync="TRUE">115000.000000 6350000.000000</pos>
</cornerPts>
<cornerPts>
<pos Sync="TRUE">152500.000000 6350000.000000</pos>
</cornerPts>
<cornerPts>
<pos Sync="TRUE">152500.000000 6277500.000000</pos>
</cornerPts>
<centerPt>
<pos Sync="TRUE">133750.000000 6313750.000000</pos>
</centerPt>
<axisDimension type="002">
<dimSize Sync="TRUE">150000</dimSize>
<dimResol>
<value Sync="TRUE" uom="m">0.250000</value>
</dimResol>
</axisDimension>
<axisDimension type="001">
<dimSize Sync="TRUE">290000</dimSize>
<dimResol>
<value Sync="TRUE" uom="m">0.250000</value>
</dimResol>
</axisDimension>
<ptInPixel>
<PixOrientCd Sync="TRUE" value="001">
</PixOrientCd>
</ptInPixel>
</Georect>
</spatRepInfo>
<contInfo>
<ImgDesc>
<contentTyp>
<ContentTypCd Sync="TRUE" value="001">
</ContentTypCd>
</contentTyp>
<covDim>
<Band>
<dimDescrp Sync="TRUE">Band_1</dimDescrp>
<maxVal Sync="TRUE">236.000000</maxVal>
<minVal Sync="TRUE">0.000000</minVal>
<bitsPerVal Sync="TRUE">8</bitsPerVal>
<valUnit>
<UOM type="length">
</UOM>
</valUnit>
</Band>
<Band>
<dimDescrp Sync="TRUE">Band_2</dimDescrp>
<maxVal Sync="TRUE">244.000000</maxVal>
<minVal Sync="TRUE">0.000000</minVal>
<bitsPerVal Sync="TRUE">8</bitsPerVal>
<valUnit>
<UOM type="length">
</UOM>
</valUnit>
</Band>
<Band>
<dimDescrp Sync="TRUE">Band_3</dimDescrp>
<maxVal Sync="TRUE">236.000000</maxVal>
<minVal Sync="TRUE">0.000000</minVal>
<bitsPerVal Sync="TRUE">8</bitsPerVal>
<valUnit>
<UOM type="length">
</UOM>
</valUnit>
</Band>
</covDim>
</ImgDesc>
</contInfo>
<mdDateSt Sync="TRUE">20190926</mdDateSt>
<mdHrLv>
<ScopeCd value="005">
</ScopeCd>
</mdHrLv>
<idinfo>
<citation>
<citeinfo>
<origin>
</origin>
</citeinfo>
</citation>
<descript>
<abstract>GSD_ORTOFOTO25_2017</abstract>
</descript>
</idinfo>
<eainfo>
<detailed Name="Rasterdata.RASTER.AMD_GSD_ORTOFOTO25_2017_CAT">
<enttyp>
<enttypl Sync="TRUE">Rasterdata.RASTER.AMD_GSD_ORTOFOTO25_2017_CAT</enttypl>
<enttypt Sync="TRUE">Feature Class</enttypt>
<enttypc Sync="TRUE">530</enttypc>
</enttyp>
<attr>
<attrlabl Sync="TRUE">OBJECTID</attrlabl>
<attalias Sync="TRUE">OBJECTID</attalias>
<attrtype Sync="TRUE">OID</attrtype>
<attwidth Sync="TRUE">4</attwidth>
<atprecis Sync="TRUE">10</atprecis>
<attscale Sync="TRUE">0</attscale>
<attrdef Sync="TRUE">Internal feature number.</attrdef>
<attrdefs Sync="TRUE">Esri</attrdefs>
<attrdomv>
<udom Sync="TRUE">Sequential unique whole numbers that are automatically generated.</udom>
</attrdomv>
</attr>
<attr>
<attrlabl Sync="TRUE">NAME</attrlabl>
<attalias Sync="TRUE">NAME</attalias>
<attrtype Sync="TRUE">String</attrtype>
<attwidth Sync="TRUE">50</attwidth>
<atprecis Sync="TRUE">0</atprecis>
<attscale Sync="TRUE">0</attscale>
</attr>
<attr>
<attrlabl Sync="TRUE">MINPS</attrlabl>
<attalias Sync="TRUE">MINPS</attalias>
<attrtype Sync="TRUE">Double</attrtype>
<attwidth Sync="TRUE">8</attwidth>
<atprecis Sync="TRUE">20</atprecis>
<attscale Sync="TRUE">9</attscale>
</attr>
<attr>
<attrlabl Sync="TRUE">MAXPS</attrlabl>
<attalias Sync="TRUE">MAXPS</attalias>
<attrtype Sync="TRUE">Double</attrtype>
<attwidth Sync="TRUE">8</attwidth>
<atprecis Sync="TRUE">20</atprecis>
<attscale Sync="TRUE">9</attscale>
</attr>
<attr>
<attrlabl Sync="TRUE">LOWPS</attrlabl>
<attalias Sync="TRUE">LOWPS</attalias>
<attrtype Sync="TRUE">Double</attrtype>
<attwidth Sync="TRUE">8</attwidth>
<atprecis Sync="TRUE">20</atprecis>
<attscale Sync="TRUE">9</attscale>
</attr>
<attr>
<attrlabl Sync="TRUE">HIGHPS</attrlabl>
<attalias Sync="TRUE">HIGHPS</attalias>
<attrtype Sync="TRUE">Double</attrtype>
<attwidth Sync="TRUE">8</attwidth>
<atprecis Sync="TRUE">20</atprecis>
<attscale Sync="TRUE">9</attscale>
</attr>
<attr>
<attrlabl Sync="TRUE">CATEGORY</attrlabl>
<attalias Sync="TRUE">CATEGORY</attalias>
<attrtype Sync="TRUE">Integer</attrtype>
<attwidth Sync="TRUE">4</attwidth>
<atprecis Sync="TRUE">10</atprecis>
<attscale Sync="TRUE">0</attscale>
</attr>
<attr>
<attrlabl Sync="TRUE">TAG</attrlabl>
<attalias Sync="TRUE">TAG</attalias>
<attrtype Sync="TRUE">String</attrtype>
<attwidth Sync="TRUE">20</attwidth>
<atprecis Sync="TRUE">0</atprecis>
<attscale Sync="TRUE">0</attscale>
</attr>
<attr>
<attrlabl Sync="TRUE">GROUPNAME</attrlabl>
<attalias Sync="TRUE">GROUPNAME</attalias>
<attrtype Sync="TRUE">String</attrtype>
<attwidth Sync="TRUE">50</attwidth>
<atprecis Sync="TRUE">0</atprecis>
<attscale Sync="TRUE">0</attscale>
</attr>
<attr>
<attrlabl Sync="TRUE">PRODUCTNAME</attrlabl>
<attalias Sync="TRUE">PRODUCTNAME</attalias>
<attrtype Sync="TRUE">String</attrtype>
<attwidth Sync="TRUE">50</attwidth>
<atprecis Sync="TRUE">0</atprecis>
<attscale Sync="TRUE">0</attscale>
</attr>
<attr>
<attrlabl Sync="TRUE">CENTERX</attrlabl>
<attalias Sync="TRUE">CENTERX</attalias>
<attrtype Sync="TRUE">Double</attrtype>
<attwidth Sync="TRUE">8</attwidth>
<atprecis Sync="TRUE">20</atprecis>
<attscale Sync="TRUE">9</attscale>
</attr>
<attr>
<attrlabl Sync="TRUE">CENTERY</attrlabl>
<attalias Sync="TRUE">CENTERY</attalias>
<attrtype Sync="TRUE">Double</attrtype>
<attwidth Sync="TRUE">8</attwidth>
<atprecis Sync="TRUE">20</atprecis>
<attscale Sync="TRUE">9</attscale>
</attr>
<attr>
<attrlabl Sync="TRUE">ZORDER</attrlabl>
<attalias Sync="TRUE">ZORDER</attalias>
<attrtype Sync="TRUE">Integer</attrtype>
<attwidth Sync="TRUE">4</attwidth>
<atprecis Sync="TRUE">10</atprecis>
<attscale Sync="TRUE">0</attscale>
</attr>
<attr>
<attrlabl Sync="TRUE">TYPEID</attrlabl>
<attalias Sync="TRUE">Raster Type ID</attalias>
<attrtype Sync="TRUE">Integer</attrtype>
<attwidth Sync="TRUE">4</attwidth>
<atprecis Sync="TRUE">10</atprecis>
<attscale Sync="TRUE">0</attscale>
</attr>
<attr>
<attrlabl Sync="TRUE">ITEMTS</attrlabl>
<attalias Sync="TRUE">ITEMTS</attalias>
<attrtype Sync="TRUE">Double</attrtype>
<attwidth Sync="TRUE">8</attwidth>
<atprecis Sync="TRUE">20</atprecis>
<attscale Sync="TRUE">14</attscale>
</attr>
<attr>
<attrlabl Sync="TRUE">URIHASH</attrlabl>
<attalias Sync="TRUE">URIHASH</attalias>
<attrtype Sync="TRUE">String</attrtype>
<attwidth Sync="TRUE">50</attwidth>
<atprecis Sync="TRUE">0</atprecis>
<attscale Sync="TRUE">0</attscale>
</attr>
<attr>
<attrlabl Sync="TRUE">URI</attrlabl>
<attalias Sync="TRUE">URI</attalias>
<attrtype Sync="TRUE">Blob</attrtype>
<attwidth Sync="TRUE">0</attwidth>
<atprecis Sync="TRUE">0</atprecis>
<attscale Sync="TRUE">0</attscale>
</attr>
<attr>
<attrlabl Sync="TRUE">SHAPE</attrlabl>
<attalias Sync="TRUE">SHAPE</attalias>
<attrtype Sync="TRUE">Geometry</attrtype>
<attwidth Sync="TRUE">4</attwidth>
<atprecis Sync="TRUE">0</atprecis>
<attscale Sync="TRUE">0</attscale>
<attrdef Sync="TRUE">Feature geometry.</attrdef>
<attrdefs Sync="TRUE">Esri</attrdefs>
<attrdomv>
<udom Sync="TRUE">Coordinates defining the features.</udom>
</attrdomv>
</attr>
<attr>
<attrlabl Sync="TRUE">RASTER</attrlabl>
<attalias Sync="TRUE">RASTER</attalias>
<attrtype Sync="TRUE">Raster</attrtype>
<attwidth Sync="TRUE">4</attwidth>
<atprecis Sync="TRUE">0</atprecis>
<attscale Sync="TRUE">0</attscale>
</attr>
<attr>
<attrlabl Sync="TRUE">SHAPE.STArea()</attrlabl>
<attalias Sync="TRUE">SHAPE.STArea()</attalias>
<attrtype Sync="TRUE">Double</attrtype>
<attwidth Sync="TRUE">0</attwidth>
<atprecis Sync="TRUE">0</atprecis>
<attscale Sync="TRUE">0</attscale>
</attr>
<attr>
<attrlabl Sync="TRUE">SHAPE.STLength()</attrlabl>
<attalias Sync="TRUE">SHAPE.STLength()</attalias>
<attrtype Sync="TRUE">Double</attrtype>
<attwidth Sync="TRUE">0</attwidth>
<atprecis Sync="TRUE">0</atprecis>
<attscale Sync="TRUE">0</attscale>
</attr>
</detailed>
</eainfo>
<distInfo>
<distFormat>
<formatName Sync="TRUE">File Geodatabase Raster Dataset</formatName>
</distFormat>
</distInfo>
<mdHrLvName Sync="TRUE">dataset</mdHrLvName>
<spdoinfo>
<rastinfo>
<rasttype Sync="TRUE">Pixel</rasttype>
<rowcount Sync="TRUE">3750</rowcount>
<colcount Sync="TRUE">4679</colcount>
<rastxsz Sync="TRUE">0,250000</rastxsz>
<rastysz Sync="TRUE">0,250000</rastysz>
<rastbpp Sync="TRUE">8</rastbpp>
<vrtcount Sync="TRUE">1</vrtcount>
<rastorig Sync="TRUE">Upper Left</rastorig>
<rastcmap Sync="TRUE">FALSE</rastcmap>
<rastcomp Sync="TRUE">LZ77</rastcomp>
<rastband Sync="TRUE">3</rastband>
<rastdtyp Sync="TRUE">pixel codes</rastdtyp>
<rastifor Sync="TRUE">FGDBR</rastifor>
<rastplyr Sync="TRUE">TRUE</rastplyr>
</rastinfo>
</spdoinfo>
<spref>
<horizsys>
<planar>
<planci>
<plance Sync="TRUE">row and column</plance>
<coordrep>
<absres Sync="TRUE">0,250000</absres>
<ordres Sync="TRUE">0,250000</ordres>
</coordrep>
</planci>
</planar>
</horizsys>
</spref>
</metadata>
