{ "currentVersion": 11.3, "serviceDescription": "
Ortofoto från Lantmäteriet med <\/SPAN>0<\/SPAN>,25 cm pixelstorlek från 2017<\/SPAN><\/P><\/DIV><\/DIV>",
"name": "Flygfoton/flygfoto_2017_portvakten",
"description": " Ortofoto från Lantmäteriet med <\/SPAN>0<\/SPAN>,25 cm pixelstorlek från 2017<\/SPAN><\/P><\/DIV><\/DIV>",
"extent": {
"xmin": 138560.5,
"ymin": 6305174,
"xmax": 139730.25,
"ymax": 6306111.5,
"spatialReference": {
"wkid": 3009,
"latestWkid": 3009
}
},
"initialExtent": {
"xmin": 138560.5,
"ymin": 6305174,
"xmax": 139730.25,
"ymax": 6306111.5,
"spatialReference": {
"wkid": 3009,
"latestWkid": 3009
}
},
"fullExtent": {
"xmin": 138560.5,
"ymin": 6305174,
"xmax": 139730.25,
"ymax": 6306111.5,
"spatialReference": {
"wkid": 3009,
"latestWkid": 3009
}
},
"sortableFields": "",
"bandCount": 3,
"pixelType": "U8",
"minValues": [
24,
26,
30
],
"maxValues": [
254,
254,
254
],
"meanValues": [
96.92121078900574,
99.75715136283857,
94.09438367957995
],
"stdvValues": [
43.93430390010863,
39.554703011527124,
34.15931094617313
],
"hasMultidimensions": false,
"pixelSizeX": 0.25,
"pixelSizeY": 0.25,
"meanPixelSize": 0.25,
"datasetFormat": "FGDBR",
"uncompressedSize": 52638750,
"blockWidth": 128,
"blockHeight": 128,
"compressionType": "LZ77",
"bandNames": [
"Band_1",
"Band_2",
"Band_3"
],
"allowCopy": true,
"allowAnalysis": true,
"itemAccess": false,
"inspectionCapabilities": "",
"minPixelSize": 0,
"maxPixelSize": 0,
"copyrightText": "Lantmäteriet",
"serviceDataType": "esriImageServiceDataTypeRGB",
"serviceSourceType": "esriImageServiceSourceTypeDataset",
"objectIdField": "",
"fields": [],
"capabilities": "Image,Metadata,Mensuration",
"defaultMosaicMethod": "Center",
"allowedMosaicMethods": "",
"sortField": "",
"sortValue": null,
"sortAscending": true,
"mosaicOperator": "First",
"defaultCompressionQuality": 75,
"defaultResamplingMethod": "Bilinear",
"maxImageHeight": 4100,
"maxImageWidth": 15000,
"allowRasterFunction": true,
"rasterFunctionInfos": [
{
"name": "None",
"description": "",
"help": ""
}
],
"rasterTypeInfos": [
{
"name": "Raster Dataset",
"description": "Supports all ArcGIS Raster Datasets",
"help": ""
}
],
"mensurationCapabilities": "Basic",
"hasHistograms": true,
"hasColormap": false,
"hasRasterAttributeTable": false,
"minScale": 0,
"maxScale": 0,
"exportTilesAllowed": false,
"supportsStatistics": false,
"supportsAdvancedQueries": false,
"editFieldsInfo": null,
"ownershipBasedAccessControlForRasters": null,
"allowComputeTiePoints": false,
"useStandardizedQueries": true,
"advancedQueryCapabilities": {
"useStandardizedQueries": true,
"supportsStatistics": false,
"supportsOrderBy": false,
"supportsDistinct": false,
"supportsPagination": false
},
"spatialReference": {
"wkid": 3009,
"latestWkid": 3009
}
}