{
 "currentVersion": 11.3,
 "serviceDescription": "Historiska_kartor/Kommunkarta_Vaxjo_1985",
 "name": "Historiska_kartor/Kommunkarta_Vaxjo_1985",
 "description": "",
 "extent": {
  "xmin": 132265.34699841042,
  "ymin": 6301335.338544437,
  "xmax": 142131.96720433197,
  "ymax": 6313550.851626672,
  "spatialReference": {
   "wkid": 3009,
   "latestWkid": 3009
  }
 },
 "initialExtent": {
  "xmin": 132265.34699841042,
  "ymin": 6301335.338544437,
  "xmax": 142131.96720433197,
  "ymax": 6313550.851626672,
  "spatialReference": {
   "wkid": 3009,
   "latestWkid": 3009
  }
 },
 "fullExtent": {
  "xmin": 132265.34699841042,
  "ymin": 6301335.338544437,
  "xmax": 142131.96720433197,
  "ymax": 6313550.851626672,
  "spatialReference": {
   "wkid": 3009,
   "latestWkid": 3009
  }
 },
 "sortableFields": "",
 "bandCount": 3,
 "pixelType": "U8",
 "minValues": [],
 "maxValues": [],
 "meanValues": [],
 "stdvValues": [],
 "hasMultidimensions": false,
 "pixelSizeX": 0.5223750638459105,
 "pixelSizeY": 0.5174968473728074,
 "meanPixelSize": 0.519935955609359,
 "datasetFormat": "TIFF",
 "uncompressedSize": 1337553720,
 "blockWidth": 18888,
 "blockHeight": 1,
 "compressionType": "LZW",
 "bandNames": [
  "Band_1",
  "Band_2",
  "Band_3"
 ],
 "allowCopy": true,
 "allowAnalysis": true,
 "itemAccess": false,
 "inspectionCapabilities": "",
 "minPixelSize": 0,
 "maxPixelSize": 0,
 "copyrightText": "",
 "serviceDataType": "esriImageServiceDataTypeRGB",
 "serviceSourceType": "esriImageServiceSourceTypeDataset",
 "objectIdField": "",
 "fields": [],
 "capabilities": "Image,Metadata,Mensuration",
 "defaultMosaicMethod": "Center",
 "allowedMosaicMethods": "",
 "sortField": "",
 "sortValue": null,
 "sortAscending": true,
 "mosaicOperator": "First",
 "defaultCompressionQuality": 75,
 "defaultResamplingMethod": "Bilinear",
 "maxImageHeight": 4100,
 "maxImageWidth": 15000,
 "allowRasterFunction": true,
 "rasterFunctionInfos": [
  {
   "name": "None",
   "description": "",
   "help": ""
  }
 ],
 "rasterTypeInfos": [
  {
   "name": "Raster Dataset",
   "description": "Supports all ArcGIS Raster Datasets",
   "help": ""
  }
 ],
 "mensurationCapabilities": "Basic",
 "hasHistograms": false,
 "hasColormap": false,
 "hasRasterAttributeTable": false,
 "minScale": 0,
 "maxScale": 0,
 "exportTilesAllowed": false,
 "supportsStatistics": false,
 "supportsAdvancedQueries": false,
 "editFieldsInfo": null,
 "ownershipBasedAccessControlForRasters": null,
 "allowComputeTiePoints": false,
 "useStandardizedQueries": true,
 "advancedQueryCapabilities": {
  "useStandardizedQueries": true,
  "supportsStatistics": false,
  "supportsOrderBy": false,
  "supportsDistinct": false,
  "supportsPagination": false
 },
 "spatialReference": {
  "wkid": 3009,
  "latestWkid": 3009
 }
}
