{
 "currentVersion": 11.3,
 "serviceDescription": "Historiska_kartor/VAXJO_1658",
 "name": "Historiska_kartor/VAXJO_1658",
 "description": "",
 "extent": {
  "xmin": 1437119.5979513691,
  "ymin": 6321286.870205781,
  "xmax": 1438180.7154103366,
  "ymax": 6323785.4566630805,
  "spatialReference": {
   "wkid": null
  }
 },
 "initialExtent": {
  "xmin": 1437119.5979513691,
  "ymin": 6321286.870205781,
  "xmax": 1438180.7154103366,
  "ymax": 6323785.4566630805,
  "spatialReference": {
   "wkid": null
  }
 },
 "fullExtent": {
  "xmin": 1437119.5979513691,
  "ymin": 6321286.870205781,
  "xmax": 1438180.7154103366,
  "ymax": 6323785.4566630805,
  "spatialReference": {
   "wkid": null
  }
 },
 "sortableFields": "",
 "bandCount": 3,
 "pixelType": "U8",
 "minValues": [],
 "maxValues": [],
 "meanValues": [],
 "stdvValues": [],
 "hasMultidimensions": false,
 "pixelSizeX": 0.8488939671739936,
 "pixelSizeY": 0.8257060334762288,
 "meanPixelSize": 0.8373000003251112,
 "datasetFormat": "TIFF",
 "uncompressedSize": 11347500,
 "blockWidth": 1250,
 "blockHeight": 2,
 "compressionType": "None",
 "bandNames": [
  "Band_1",
  "Band_2",
  "Band_3"
 ],
 "allowCopy": true,
 "allowAnalysis": true,
 "itemAccess": false,
 "inspectionCapabilities": "",
 "minPixelSize": 0,
 "maxPixelSize": 0,
 "copyrightText": "",
 "serviceDataType": "esriImageServiceDataTypeRGB",
 "serviceSourceType": "esriImageServiceSourceTypeDataset",
 "objectIdField": "",
 "fields": [],
 "capabilities": "Image,Metadata",
 "defaultMosaicMethod": "Center",
 "allowedMosaicMethods": "",
 "sortField": "",
 "sortValue": null,
 "sortAscending": true,
 "mosaicOperator": "First",
 "defaultCompressionQuality": 75,
 "defaultResamplingMethod": "Bilinear",
 "maxImageHeight": 4100,
 "maxImageWidth": 15000,
 "allowRasterFunction": true,
 "rasterFunctionInfos": [
  {
   "name": "None",
   "description": "",
   "help": ""
  }
 ],
 "rasterTypeInfos": [
  {
   "name": "Raster Dataset",
   "description": "Supports all ArcGIS Raster Datasets",
   "help": ""
  }
 ],
 "mensurationCapabilities": "",
 "hasHistograms": false,
 "hasColormap": false,
 "hasRasterAttributeTable": false,
 "minScale": 0,
 "maxScale": 0,
 "exportTilesAllowed": false,
 "supportsStatistics": false,
 "supportsAdvancedQueries": false,
 "editFieldsInfo": null,
 "ownershipBasedAccessControlForRasters": null,
 "allowComputeTiePoints": false,
 "useStandardizedQueries": true,
 "advancedQueryCapabilities": {
  "useStandardizedQueries": true,
  "supportsStatistics": false,
  "supportsOrderBy": false,
  "supportsDistinct": false,
  "supportsPagination": false
 },
 "spatialReference": {
  "wkid": null
 }
}
