{
 "currentVersion": 11.3,
 "serviceDescription": "Historiska_kartor/Vaxjo_1697",
 "name": "Historiska_kartor/Vaxjo_1697",
 "description": "",
 "extent": {
  "xmin": 136132.11666746085,
  "ymin": 6303595.260378785,
  "xmax": 140692.32375265926,
  "ymax": 6308986.940277713,
  "spatialReference": {
   "wkid": 3009,
   "latestWkid": 3009,
   "vcsWkid": 105702,
   "latestVcsWkid": 5613
  }
 },
 "initialExtent": {
  "xmin": 136132.11666746085,
  "ymin": 6303595.260378785,
  "xmax": 140692.32375265926,
  "ymax": 6308986.940277713,
  "spatialReference": {
   "wkid": 3009,
   "latestWkid": 3009,
   "vcsWkid": 105702,
   "latestVcsWkid": 5613
  }
 },
 "fullExtent": {
  "xmin": 136132.11666746085,
  "ymin": 6303595.260378785,
  "xmax": 140692.32375265926,
  "ymax": 6308986.940277713,
  "spatialReference": {
   "wkid": 3009,
   "latestWkid": 3009,
   "vcsWkid": 105702,
   "latestVcsWkid": 5613
  }
 },
 "sortableFields": "",
 "heightModelInfo": {
  "heightModel": "gravity_related_height",
  "vertCRS": "RH2000",
  "heightUnit": "meter"
 },
 "bandCount": 3,
 "pixelType": "U8",
 "minValues": [
  0,
  0,
  0
 ],
 "maxValues": [
  255,
  255,
  255
 ],
 "meanValues": [
  202.22997001815,
  180.51101153704,
  152.82627762734
 ],
 "stdvValues": [
  88.292902938286,
  80.834785683798,
  72.608645008431
 ],
 "hasMultidimensions": false,
 "pixelSizeX": 0.4699790874160984,
 "pixelSizeY": 0.42490975639750334,
 "meanPixelSize": 0.4474444219068009,
 "datasetFormat": "TIFF",
 "uncompressedSize": 369364101,
 "blockWidth": 128,
 "blockHeight": 128,
 "compressionType": "None",
 "bandNames": [
  "Band_1",
  "Band_2",
  "Band_3"
 ],
 "allowCopy": true,
 "allowAnalysis": true,
 "itemAccess": false,
 "inspectionCapabilities": "",
 "minPixelSize": 0,
 "maxPixelSize": 0,
 "copyrightText": "",
 "serviceDataType": "esriImageServiceDataTypeRGB",
 "serviceSourceType": "esriImageServiceSourceTypeDataset",
 "objectIdField": "",
 "fields": [],
 "capabilities": "Image,Metadata,Mensuration",
 "defaultMosaicMethod": "Center",
 "allowedMosaicMethods": "",
 "sortField": "",
 "sortValue": null,
 "sortAscending": true,
 "mosaicOperator": "First",
 "defaultCompressionQuality": 75,
 "defaultResamplingMethod": "Bilinear",
 "maxImageHeight": 4100,
 "maxImageWidth": 15000,
 "allowRasterFunction": true,
 "rasterFunctionInfos": [
  {
   "name": "None",
   "description": "",
   "help": ""
  }
 ],
 "rasterTypeInfos": [
  {
   "name": "Raster Dataset",
   "description": "Supports all ArcGIS Raster Datasets",
   "help": ""
  }
 ],
 "mensurationCapabilities": "Basic",
 "hasHistograms": true,
 "hasColormap": false,
 "hasRasterAttributeTable": false,
 "minScale": 0,
 "maxScale": 0,
 "exportTilesAllowed": false,
 "supportsStatistics": false,
 "supportsAdvancedQueries": false,
 "editFieldsInfo": null,
 "ownershipBasedAccessControlForRasters": null,
 "allowComputeTiePoints": false,
 "useStandardizedQueries": true,
 "advancedQueryCapabilities": {
  "useStandardizedQueries": true,
  "supportsStatistics": false,
  "supportsOrderBy": false,
  "supportsDistinct": false,
  "supportsPagination": false
 },
 "spatialReference": {
  "wkid": 3009,
  "latestWkid": 3009,
  "vcsWkid": 105702,
  "latestVcsWkid": 5613
 }
}
