{
 "currentVersion": 11.1,
 "serviceDescription": "Historiska_kartor/Vaxjo_1783",
 "name": "Historiska_kartor/Vaxjo_1783",
 "description": "",
 "extent": {
  "xmin": 137869.99528037527,
  "ymin": 6305452.323175651,
  "xmax": 138887.38698881413,
  "ymax": 6306938.797539355,
  "spatialReference": {
   "wkid": 3009,
   "latestWkid": 3009,
   "vcsWkid": 105702,
   "latestVcsWkid": 5613
  }
 },
 "initialExtent": {
  "xmin": 137869.99528037527,
  "ymin": 6305452.323175651,
  "xmax": 138887.38698881413,
  "ymax": 6306938.797539355,
  "spatialReference": {
   "wkid": 3009,
   "latestWkid": 3009,
   "vcsWkid": 105702,
   "latestVcsWkid": 5613
  }
 },
 "fullExtent": {
  "xmin": 137869.99528037527,
  "ymin": 6305452.323175651,
  "xmax": 138887.38698881413,
  "ymax": 6306938.797539355,
  "spatialReference": {
   "wkid": 3009,
   "latestWkid": 3009,
   "vcsWkid": 105702,
   "latestVcsWkid": 5613
  }
 },
 "sortableFields": "",
 "heightModelInfo": {
  "heightModel": "gravity_related_height",
  "vertCRS": "RH2000",
  "heightUnit": "meter"
 },
 "bandCount": 3,
 "pixelType": "U8",
 "minValues": [
  0,
  0,
  0
 ],
 "maxValues": [
  255,
  255,
  255
 ],
 "meanValues": [
  155.07716523691,
  149.96774879362,
  135.73273294771
 ],
 "stdvValues": [
  101.2384740156,
  99.680219854917,
  92.429396555737
 ],
 "hasMultidimensions": false,
 "pixelSizeX": 0.16869370061994143,
 "pixelSizeY": 0.17700337743560515,
 "datasetFormat": "TIFF",
 "uncompressedSize": 151945014,
 "blockWidth": 128,
 "blockHeight": 128,
 "compressionType": "None",
 "bandNames": [
  "Band_1",
  "Band_2",
  "Band_3"
 ],
 "allowCopy": true,
 "allowAnalysis": true,
 "itemAccess": false,
 "minPixelSize": 0,
 "maxPixelSize": 0,
 "copyrightText": "",
 "serviceDataType": "esriImageServiceDataTypeRGB",
 "serviceSourceType": "esriImageServiceSourceTypeDataset",
 "objectIdField": "",
 "fields": [],
 "capabilities": "Image,Metadata,Mensuration",
 "defaultMosaicMethod": "Center",
 "allowedMosaicMethods": "",
 "sortField": "",
 "sortValue": null,
 "sortAscending": true,
 "mosaicOperator": "First",
 "defaultCompressionQuality": 75,
 "defaultResamplingMethod": "Bilinear",
 "maxImageHeight": 4100,
 "maxImageWidth": 15000,
 "allowRasterFunction": true,
 "rasterFunctionInfos": [
  {
   "name": "None",
   "description": "",
   "help": ""
  }
 ],
 "rasterTypeInfos": [
  {
   "name": "Raster Dataset",
   "description": "Supports all ArcGIS Raster Datasets",
   "help": ""
  }
 ],
 "mensurationCapabilities": "Basic",
 "hasHistograms": true,
 "hasColormap": false,
 "hasRasterAttributeTable": false,
 "minScale": 0,
 "maxScale": 0,
 "exportTilesAllowed": false,
 "supportsStatistics": false,
 "supportsAdvancedQueries": false,
 "editFieldsInfo": null,
 "ownershipBasedAccessControlForRasters": null,
 "allowComputeTiePoints": false,
 "useStandardizedQueries": true,
 "advancedQueryCapabilities": {
  "useStandardizedQueries": true,
  "supportsStatistics": false,
  "supportsOrderBy": false,
  "supportsDistinct": false,
  "supportsPagination": false
 },
 "spatialReference": {
  "wkid": 3009,
  "latestWkid": 3009,
  "vcsWkid": 105702,
  "latestVcsWkid": 5613
 }
}
