{
 "currentVersion": 11.3,
 "serviceDescription": "Historiska_kartor/Vaxjo_1940",
 "name": "Historiska_kartor/Vaxjo_1940",
 "description": "",
 "extent": {
  "xmin": 136066.52095380213,
  "ymin": 6304977.054443301,
  "xmax": 140047.3898217759,
  "ymax": 6307606.387192788,
  "spatialReference": {
   "wkid": 3009,
   "latestWkid": 3009,
   "vcsWkid": 105702,
   "latestVcsWkid": 5613
  }
 },
 "initialExtent": {
  "xmin": 136066.52095380213,
  "ymin": 6304977.054443301,
  "xmax": 140047.3898217759,
  "ymax": 6307606.387192788,
  "spatialReference": {
   "wkid": 3009,
   "latestWkid": 3009,
   "vcsWkid": 105702,
   "latestVcsWkid": 5613
  }
 },
 "fullExtent": {
  "xmin": 136066.52095380213,
  "ymin": 6304977.054443301,
  "xmax": 140047.3898217759,
  "ymax": 6307606.387192788,
  "spatialReference": {
   "wkid": 3009,
   "latestWkid": 3009,
   "vcsWkid": 105702,
   "latestVcsWkid": 5613
  }
 },
 "sortableFields": "",
 "heightModelInfo": {
  "heightModel": "gravity_related_height",
  "vertCRS": "RH2000",
  "heightUnit": "meter"
 },
 "bandCount": 3,
 "pixelType": "U8",
 "minValues": [
  0,
  0,
  0
 ],
 "maxValues": [
  255,
  255,
  255
 ],
 "meanValues": [
  222.3867403116,
  211.04514703182,
  173.11105195431
 ],
 "stdvValues": [
  64.077299221701,
  69.322051836745,
  69.222280829534
 ],
 "hasMultidimensions": false,
 "pixelSizeX": 0.5190181053420818,
 "pixelSizeY": 0.5171779601665816,
 "meanPixelSize": 0.5180980327543316,
 "datasetFormat": "JFIF",
 "uncompressedSize": 116982840,
 "blockWidth": 7670,
 "blockHeight": 1,
 "compressionType": "JPEG",
 "bandNames": [
  "Band_1",
  "Band_2",
  "Band_3"
 ],
 "allowCopy": true,
 "allowAnalysis": true,
 "itemAccess": false,
 "inspectionCapabilities": "",
 "noDataValue": 256,
 "noDataValues": [
  256,
  256,
  256
 ],
 "minPixelSize": 0,
 "maxPixelSize": 0,
 "copyrightText": "",
 "serviceDataType": "esriImageServiceDataTypeRGB",
 "serviceSourceType": "esriImageServiceSourceTypeDataset",
 "objectIdField": "",
 "fields": [],
 "capabilities": "Image,Metadata,Mensuration",
 "defaultMosaicMethod": "Center",
 "allowedMosaicMethods": "",
 "sortField": "",
 "sortValue": null,
 "sortAscending": true,
 "mosaicOperator": "First",
 "defaultCompressionQuality": 75,
 "defaultResamplingMethod": "Bilinear",
 "maxImageHeight": 4100,
 "maxImageWidth": 15000,
 "allowRasterFunction": true,
 "rasterFunctionInfos": [
  {
   "name": "None",
   "description": "",
   "help": ""
  }
 ],
 "rasterTypeInfos": [
  {
   "name": "Raster Dataset",
   "description": "Supports all ArcGIS Raster Datasets",
   "help": ""
  }
 ],
 "mensurationCapabilities": "Basic",
 "hasHistograms": true,
 "hasColormap": false,
 "hasRasterAttributeTable": false,
 "minScale": 0,
 "maxScale": 0,
 "exportTilesAllowed": false,
 "supportsStatistics": false,
 "supportsAdvancedQueries": false,
 "editFieldsInfo": null,
 "ownershipBasedAccessControlForRasters": null,
 "allowComputeTiePoints": false,
 "useStandardizedQueries": true,
 "advancedQueryCapabilities": {
  "useStandardizedQueries": true,
  "supportsStatistics": false,
  "supportsOrderBy": false,
  "supportsDistinct": false,
  "supportsPagination": false
 },
 "spatialReference": {
  "wkid": 3009,
  "latestWkid": 3009,
  "vcsWkid": 105702,
  "latestVcsWkid": 5613
 }
}
