{
 "currentVersion": 11.3,
 "serviceDescription": "Historiska_kartor/Vaxjo_1948",
 "name": "Historiska_kartor/Vaxjo_1948",
 "description": "",
 "extent": {
  "xmin": 135594.33437637927,
  "ymin": 6304430.0569605855,
  "xmax": 141121.48634940584,
  "ymax": 6308844.767386156,
  "spatialReference": {
   "wkid": 3009,
   "latestWkid": 3009
  }
 },
 "initialExtent": {
  "xmin": 135594.33437637927,
  "ymin": 6304430.0569605855,
  "xmax": 141121.48634940584,
  "ymax": 6308844.767386156,
  "spatialReference": {
   "wkid": 3009,
   "latestWkid": 3009
  }
 },
 "fullExtent": {
  "xmin": 135594.33437637927,
  "ymin": 6304430.0569605855,
  "xmax": 141121.48634940584,
  "ymax": 6308844.767386156,
  "spatialReference": {
   "wkid": 3009,
   "latestWkid": 3009
  }
 },
 "sortableFields": "",
 "bandCount": 3,
 "pixelType": "U8",
 "minValues": [
  0,
  0,
  0
 ],
 "maxValues": [
  255,
  255,
  255
 ],
 "meanValues": [
  238.59759183713,
  216.09403365187,
  159.39244399998
 ],
 "stdvValues": [
  35.202198337894,
  31.463381996092,
  32.55104147624
 ],
 "hasMultidimensions": false,
 "pixelSizeX": 0.6929729153744448,
 "pixelSizeY": 0.6933737121989331,
 "meanPixelSize": 0.6931733137866889,
 "datasetFormat": "TIFF",
 "uncompressedSize": 152349576,
 "blockWidth": 7976,
 "blockHeight": 1,
 "compressionType": "LZW",
 "bandNames": [
  "Band_1",
  "Band_2",
  "Band_3"
 ],
 "allowCopy": true,
 "allowAnalysis": true,
 "itemAccess": false,
 "inspectionCapabilities": "",
 "minPixelSize": 0,
 "maxPixelSize": 0,
 "copyrightText": "",
 "serviceDataType": "esriImageServiceDataTypeRGB",
 "serviceSourceType": "esriImageServiceSourceTypeDataset",
 "objectIdField": "",
 "fields": [],
 "capabilities": "Image,Metadata,Mensuration",
 "defaultMosaicMethod": "Center",
 "allowedMosaicMethods": "",
 "sortField": "",
 "sortValue": null,
 "sortAscending": true,
 "mosaicOperator": "First",
 "defaultCompressionQuality": 75,
 "defaultResamplingMethod": "Bilinear",
 "maxImageHeight": 4100,
 "maxImageWidth": 15000,
 "allowRasterFunction": true,
 "rasterFunctionInfos": [
  {
   "name": "None",
   "description": "",
   "help": ""
  }
 ],
 "rasterTypeInfos": [
  {
   "name": "Raster Dataset",
   "description": "Supports all ArcGIS Raster Datasets",
   "help": ""
  }
 ],
 "mensurationCapabilities": "Basic",
 "hasHistograms": true,
 "hasColormap": false,
 "hasRasterAttributeTable": false,
 "minScale": 0,
 "maxScale": 0,
 "exportTilesAllowed": false,
 "supportsStatistics": false,
 "supportsAdvancedQueries": false,
 "editFieldsInfo": null,
 "ownershipBasedAccessControlForRasters": null,
 "allowComputeTiePoints": false,
 "useStandardizedQueries": true,
 "advancedQueryCapabilities": {
  "useStandardizedQueries": true,
  "supportsStatistics": false,
  "supportsOrderBy": false,
  "supportsDistinct": false,
  "supportsPagination": false
 },
 "spatialReference": {
  "wkid": 3009,
  "latestWkid": 3009
 }
}
