{ "currentVersion": 11.3, "serviceDescription": "
Samling av samtliga ster<\/SPAN>e<\/SPAN>obilder tagna 1971 i Växjö kommun.<\/SPAN><\/P> Fyllerydsskogen med delar av Högstorp och delar av Sandsbro<\/SPAN><\/P><\/LI> södra Teleborg<\/SPAN><\/P><\/LI><\/UL><\/DIV><\/DIV><\/DIV>",
"name": "Stereobilder/Stereobild1971",
"description": " Samling av samtliga ster<\/SPAN>e<\/SPAN>obilder tagna 1971 i Växjö kommun.<\/SPAN><\/P> Fyllerydsskogen med delar av Högstorp och delar av Sandsbro<\/SPAN><\/P><\/LI> södra Teleborg<\/SPAN><\/P><\/LI><\/UL><\/DIV><\/DIV><\/DIV>",
"extent": {
"xmin": 135671.98509400577,
"ymin": 6300899.591947857,
"xmax": 142702.30036156578,
"ymax": 6310953.488243547,
"spatialReference": {
"wkid": 3009,
"latestWkid": 3009
}
},
"initialExtent": {
"xmin": 135671.98509400577,
"ymin": 6300899.591947857,
"xmax": 142702.30036156578,
"ymax": 6310953.488243547,
"spatialReference": {
"wkid": 3009,
"latestWkid": 3009
}
},
"fullExtent": {
"xmin": 135671.98509400577,
"ymin": 6300899.591947857,
"xmax": 142702.30036156578,
"ymax": 6310953.488243547,
"spatialReference": {
"wkid": 3009,
"latestWkid": 3009
}
},
"sortableFields": "",
"bandCount": 1,
"pixelType": "U8",
"minValues": [
22
],
"maxValues": [
255
],
"meanValues": [
106.28919454272734
],
"stdvValues": [
33.04147362179149
],
"hasMultidimensions": false,
"pixelSizeX": 0.21994479000000045,
"pixelSizeY": 0.2199447899999995,
"meanPixelSize": 0.21994478999999997,
"datasetFormat": "AMD",
"uncompressedSize": 1461106404,
"blockWidth": 2048,
"blockHeight": 256,
"compressionType": "None",
"bandNames": [
"Band_1"
],
"allowCopy": true,
"allowAnalysis": true,
"itemAccess": false,
"inspectionCapabilities": "",
"minPixelSize": 0,
"maxPixelSize": 0,
"copyrightText": "",
"serviceDataType": "esriImageServiceDataTypeGeneric",
"serviceSourceType": "esriImageServiceSourceTypeMosaicDataset",
"objectIdField": "OBJECTID",
"fields": [
{
"name": "OBJECTID",
"type": "esriFieldTypeOID",
"alias": "OBJECTID",
"domain": null
},
{
"name": "Name",
"type": "esriFieldTypeString",
"alias": "Name",
"domain": null,
"length": 200
},
{
"name": "MinPS",
"type": "esriFieldTypeDouble",
"alias": "MinPS",
"domain": null
},
{
"name": "MaxPS",
"type": "esriFieldTypeDouble",
"alias": "MaxPS",
"domain": null
},
{
"name": "LowPS",
"type": "esriFieldTypeDouble",
"alias": "LowPS",
"domain": null
},
{
"name": "HighPS",
"type": "esriFieldTypeDouble",
"alias": "HighPS",
"domain": null
},
{
"name": "Category",
"type": "esriFieldTypeInteger",
"alias": "Category",
"domain": {
"type": "codedValue",
"name": "MosaicCatalogItemCategoryDomain",
"description": "Kategorier för katalogobjekt.",
"codedValues": [
{
"name": "Unknown",
"code": 0
},
{
"name": "Primary",
"code": 1
},
{
"name": "Overview",
"code": 2
},
{
"name": "Unprocessed Overview",
"code": 3
},
{
"name": "Partial Overview",
"code": 4
},
{
"name": "Uploaded",
"code": 253
},
{
"name": "Incomplete",
"code": 254
},
{
"name": "Custom",
"code": 255
}
],
"mergePolicy": "esriMPTDefaultValue",
"splitPolicy": "esriSPTDefaultValue"
}
},
{
"name": "Tag",
"type": "esriFieldTypeString",
"alias": "Tag",
"domain": null,
"length": 100
},
{
"name": "GroupName",
"type": "esriFieldTypeString",
"alias": "GroupName",
"domain": null,
"length": 100
},
{
"name": "ProductName",
"type": "esriFieldTypeString",
"alias": "ProductName",
"domain": null,
"length": 100
},
{
"name": "CenterX",
"type": "esriFieldTypeDouble",
"alias": "CenterX",
"domain": null
},
{
"name": "CenterY",
"type": "esriFieldTypeDouble",
"alias": "CenterY",
"domain": null
},
{
"name": "ZOrder",
"type": "esriFieldTypeInteger",
"alias": "ZOrder",
"domain": null
},
{
"name": "Shape",
"type": "esriFieldTypeGeometry",
"alias": "Shape",
"domain": null
}
],
"capabilities": "Image,Metadata,Catalog",
"defaultMosaicMethod": "Northwest",
"allowedMosaicMethods": "NorthWest,Center,LockRaster,ByAttribute,Nadir,Viewpoint,Seamline,None",
"sortField": "",
"sortValue": null,
"sortAscending": true,
"mosaicOperator": "First",
"maxDownloadSizeLimit": 2048,
"defaultCompressionQuality": 75,
"defaultResamplingMethod": "Bilinear",
"maxImageHeight": 4100,
"maxImageWidth": 15000,
"maxRecordCount": 1000,
"maxDownloadImageCount": 20,
"maxMosaicImageCount": 20,
"allowRasterFunction": true,
"rasterFunctionInfos": [
{
"name": "None",
"description": "A No-Op Function.",
"help": ""
}
],
"rasterTypeInfos": [
{
"name": "Raster Dataset",
"description": "Supports all ArcGIS Raster Datasets",
"help": ""
}
],
"mensurationCapabilities": "None",
"hasHistograms": true,
"hasColormap": false,
"hasRasterAttributeTable": false,
"minScale": 0,
"maxScale": 0,
"exportTilesAllowed": false,
"supportsStatistics": true,
"supportsAdvancedQueries": true,
"editFieldsInfo": null,
"ownershipBasedAccessControlForRasters": null,
"allowComputeTiePoints": false,
"useStandardizedQueries": true,
"advancedQueryCapabilities": {
"useStandardizedQueries": true,
"supportsStatistics": true,
"supportsOrderBy": true,
"supportsDistinct": true,
"supportsPagination": true
},
"spatialReference": {
"wkid": 3009,
"latestWkid": 3009
}
}