{ "currentVersion": 11.3, "serviceDescription": "
Samling av samtliga ster<\/SPAN>e<\/SPAN>obilder tagna 197<\/SPAN>2<\/SPAN> <\/SPAN>i Växjö kommun.<\/SPAN><\/P> Ingelstad<\/SPAN><\/P><\/LI> Öja<\/SPAN><\/P><\/LI> Västra Växjö<\/SPAN><\/P><\/LI> Sandsbro<\/SPAN><\/P><\/LI> södra <\/SPAN>och <\/SPAN>västra utkanterna av Lammhult<\/SPAN><\/P><\/LI><\/UL><\/DIV><\/DIV><\/DIV>",
"name": "Stereobilder/Stereobild1972",
"description": " Samling av samtliga ster<\/SPAN>e<\/SPAN>obilder tagna 197<\/SPAN>2<\/SPAN> <\/SPAN>i Växjö kommun.<\/SPAN><\/P> Ingelstad<\/SPAN><\/P><\/LI> Öja<\/SPAN><\/P><\/LI> Västra Växjö<\/SPAN><\/P><\/LI> Sandsbro<\/SPAN><\/P><\/LI> södra <\/SPAN>och <\/SPAN>västra utkanterna av Lammhult<\/SPAN><\/P><\/LI><\/UL><\/DIV><\/DIV><\/DIV>",
"extent": {
"xmin": 123031.62701454748,
"ymin": 6288467.361553593,
"xmax": 146214.1639412875,
"ymax": 6340744.862112173,
"spatialReference": {
"wkid": 3009,
"latestWkid": 3009
}
},
"initialExtent": {
"xmin": 123031.62701454748,
"ymin": 6288467.361553593,
"xmax": 146214.1639412875,
"ymax": 6340744.862112173,
"spatialReference": {
"wkid": 3009,
"latestWkid": 3009
}
},
"fullExtent": {
"xmin": 123031.62701454748,
"ymin": 6288467.361553593,
"xmax": 146214.1639412875,
"ymax": 6340744.862112173,
"spatialReference": {
"wkid": 3009,
"latestWkid": 3009
}
},
"sortableFields": "",
"bandCount": 1,
"pixelType": "U8",
"minValues": [
34
],
"maxValues": [
245
],
"meanValues": [
115.77138009049774
],
"stdvValues": [
18.942845886926996
],
"hasMultidimensions": false,
"pixelSizeX": 0.20507897000000008,
"pixelSizeY": 0.20507897000000105,
"meanPixelSize": 0.20507897000000058,
"datasetFormat": "AMD",
"uncompressedSize": 28815988388,
"blockWidth": 2048,
"blockHeight": 256,
"compressionType": "None",
"bandNames": [
"Band_1"
],
"allowCopy": true,
"allowAnalysis": true,
"itemAccess": false,
"inspectionCapabilities": "",
"minPixelSize": 0,
"maxPixelSize": 0,
"copyrightText": "",
"serviceDataType": "esriImageServiceDataTypeGeneric",
"serviceSourceType": "esriImageServiceSourceTypeMosaicDataset",
"objectIdField": "OBJECTID",
"fields": [
{
"name": "OBJECTID",
"type": "esriFieldTypeOID",
"alias": "OBJECTID",
"domain": null
},
{
"name": "Name",
"type": "esriFieldTypeString",
"alias": "Name",
"domain": null,
"length": 200
},
{
"name": "MinPS",
"type": "esriFieldTypeDouble",
"alias": "MinPS",
"domain": null
},
{
"name": "MaxPS",
"type": "esriFieldTypeDouble",
"alias": "MaxPS",
"domain": null
},
{
"name": "LowPS",
"type": "esriFieldTypeDouble",
"alias": "LowPS",
"domain": null
},
{
"name": "HighPS",
"type": "esriFieldTypeDouble",
"alias": "HighPS",
"domain": null
},
{
"name": "Category",
"type": "esriFieldTypeInteger",
"alias": "Category",
"domain": {
"type": "codedValue",
"name": "MosaicCatalogItemCategoryDomain",
"description": "Kategorier för katalogobjekt.",
"codedValues": [
{
"name": "Unknown",
"code": 0
},
{
"name": "Primary",
"code": 1
},
{
"name": "Overview",
"code": 2
},
{
"name": "Unprocessed Overview",
"code": 3
},
{
"name": "Partial Overview",
"code": 4
},
{
"name": "Uploaded",
"code": 253
},
{
"name": "Incomplete",
"code": 254
},
{
"name": "Custom",
"code": 255
}
],
"mergePolicy": "esriMPTDefaultValue",
"splitPolicy": "esriSPTDefaultValue"
}
},
{
"name": "Tag",
"type": "esriFieldTypeString",
"alias": "Tag",
"domain": null,
"length": 100
},
{
"name": "GroupName",
"type": "esriFieldTypeString",
"alias": "GroupName",
"domain": null,
"length": 100
},
{
"name": "ProductName",
"type": "esriFieldTypeString",
"alias": "ProductName",
"domain": null,
"length": 100
},
{
"name": "CenterX",
"type": "esriFieldTypeDouble",
"alias": "CenterX",
"domain": null
},
{
"name": "CenterY",
"type": "esriFieldTypeDouble",
"alias": "CenterY",
"domain": null
},
{
"name": "ZOrder",
"type": "esriFieldTypeInteger",
"alias": "ZOrder",
"domain": null
},
{
"name": "Shape",
"type": "esriFieldTypeGeometry",
"alias": "Shape",
"domain": null
}
],
"capabilities": "Image,Metadata,Catalog",
"defaultMosaicMethod": "Northwest",
"allowedMosaicMethods": "NorthWest,Center,LockRaster,ByAttribute,Nadir,Viewpoint,Seamline,None",
"sortField": "",
"sortValue": null,
"sortAscending": true,
"mosaicOperator": "First",
"maxDownloadSizeLimit": 2048,
"defaultCompressionQuality": 75,
"defaultResamplingMethod": "Bilinear",
"maxImageHeight": 4100,
"maxImageWidth": 15000,
"maxRecordCount": 1000,
"maxDownloadImageCount": 20,
"maxMosaicImageCount": 20,
"allowRasterFunction": true,
"rasterFunctionInfos": [
{
"name": "None",
"description": "",
"help": ""
}
],
"rasterTypeInfos": [
{
"name": "Raster Dataset",
"description": "Supports all ArcGIS Raster Datasets",
"help": ""
}
],
"mensurationCapabilities": "None",
"hasHistograms": true,
"hasColormap": false,
"hasRasterAttributeTable": false,
"minScale": 0,
"maxScale": 0,
"exportTilesAllowed": false,
"supportsStatistics": true,
"supportsAdvancedQueries": true,
"editFieldsInfo": null,
"ownershipBasedAccessControlForRasters": null,
"allowComputeTiePoints": false,
"useStandardizedQueries": true,
"advancedQueryCapabilities": {
"useStandardizedQueries": true,
"supportsStatistics": true,
"supportsOrderBy": true,
"supportsDistinct": true,
"supportsPagination": true
},
"spatialReference": {
"wkid": 3009,
"latestWkid": 3009
}
}