{
 "currentVersion": 11.3,
 "serviceDescription": "image/Rasterdata_RASTER_NH_2m",
 "name": "image/Rasterdata_RASTER_NH_2m",
 "description": "",
 "extent": {
  "xmin": 118014,
  "ymin": 6276180,
  "xmax": 164522,
  "ymax": 6345352,
  "spatialReference": {
   "wkid": 3009,
   "latestWkid": 3009
  }
 },
 "initialExtent": {
  "xmin": 118014,
  "ymin": 6276180,
  "xmax": 164522,
  "ymax": 6345352,
  "spatialReference": {
   "wkid": 3009,
   "latestWkid": 3009
  }
 },
 "fullExtent": {
  "xmin": 118014,
  "ymin": 6276180,
  "xmax": 164522,
  "ymax": 6345352,
  "spatialReference": {
   "wkid": 3009,
   "latestWkid": 3009
  }
 },
 "sortableFields": "",
 "bandCount": 1,
 "pixelType": "F32",
 "minValues": [
  136.25999450683594
 ],
 "maxValues": [
  315.3800048828125
 ],
 "meanValues": [
  187.1180297250323
 ],
 "stdvValues": [
  30.539130146712573
 ],
 "hasMultidimensions": false,
 "pixelSizeX": 2,
 "pixelSizeY": 2,
 "meanPixelSize": 2,
 "datasetFormat": "SDR",
 "uncompressedSize": 3217051376,
 "blockWidth": 128,
 "blockHeight": 128,
 "compressionType": "LZ77",
 "bandNames": [
  "Band_1"
 ],
 "allowCopy": true,
 "allowAnalysis": true,
 "itemAccess": false,
 "inspectionCapabilities": "",
 "minPixelSize": 0,
 "maxPixelSize": 0,
 "copyrightText": "",
 "serviceDataType": "esriImageServiceDataTypeGeneric",
 "serviceSourceType": "esriImageServiceSourceTypeDataset",
 "objectIdField": "",
 "fields": [],
 "capabilities": "Image,Metadata,Mensuration",
 "defaultMosaicMethod": "Center",
 "allowedMosaicMethods": "",
 "sortField": "",
 "sortValue": null,
 "sortAscending": true,
 "mosaicOperator": "First",
 "defaultCompressionQuality": 75,
 "defaultResamplingMethod": "Bilinear",
 "maxImageHeight": 4100,
 "maxImageWidth": 15000,
 "allowRasterFunction": true,
 "rasterFunctionInfos": [
  {
   "name": "None",
   "description": "",
   "help": ""
  }
 ],
 "rasterTypeInfos": [
  {
   "name": "Raster Dataset",
   "description": "Supports all ArcGIS Raster Datasets",
   "help": ""
  }
 ],
 "mensurationCapabilities": "Basic",
 "hasHistograms": true,
 "hasColormap": false,
 "hasRasterAttributeTable": false,
 "minScale": 0,
 "maxScale": 0,
 "exportTilesAllowed": false,
 "supportsStatistics": false,
 "supportsAdvancedQueries": false,
 "editFieldsInfo": null,
 "ownershipBasedAccessControlForRasters": null,
 "allowComputeTiePoints": false,
 "useStandardizedQueries": true,
 "advancedQueryCapabilities": {
  "useStandardizedQueries": true,
  "supportsStatistics": false,
  "supportsOrderBy": false,
  "supportsDistinct": false,
  "supportsPagination": false
 },
 "spatialReference": {
  "wkid": 3009,
  "latestWkid": 3009
 }
}
