{
 "currentVersion": 11.3,
 "serviceDescription": "image/objekthojder",
 "name": "image/objekthojder",
 "description": "",
 "extent": {
  "xmin": 131952.75,
  "ymin": 6300622.25,
  "xmax": 143649.5,
  "ymax": 6314500,
  "spatialReference": {
   "wkid": null
  }
 },
 "initialExtent": {
  "xmin": 131952.75,
  "ymin": 6300622.25,
  "xmax": 143649.5,
  "ymax": 6314500,
  "spatialReference": {
   "wkid": null
  }
 },
 "fullExtent": {
  "xmin": 131952.75,
  "ymin": 6300622.25,
  "xmax": 143649.5,
  "ymax": 6314500,
  "spatialReference": {
   "wkid": null
  }
 },
 "sortableFields": "",
 "bandCount": 1,
 "pixelType": "F32",
 "minValues": [
  -0.430999755859375
 ],
 "maxValues": [
  275.37152099609375
 ],
 "meanValues": [
  4.426688462518074
 ],
 "stdvValues": [
  6.546404911944529
 ],
 "hasMultidimensions": false,
 "pixelSizeX": 0.25,
 "pixelSizeY": 0.25,
 "meanPixelSize": 0.25,
 "datasetFormat": "FGDBR",
 "uncompressedSize": 10388772628,
 "blockWidth": 128,
 "blockHeight": 128,
 "compressionType": "LZ77",
 "bandNames": [
  "Band_1"
 ],
 "allowCopy": true,
 "allowAnalysis": true,
 "itemAccess": false,
 "inspectionCapabilities": "",
 "minPixelSize": 0,
 "maxPixelSize": 0,
 "copyrightText": "",
 "serviceDataType": "esriImageServiceDataTypeGeneric",
 "serviceSourceType": "esriImageServiceSourceTypeDataset",
 "objectIdField": "",
 "fields": [],
 "capabilities": "Image,Metadata",
 "defaultMosaicMethod": "Center",
 "allowedMosaicMethods": "",
 "sortField": "",
 "sortValue": null,
 "sortAscending": true,
 "mosaicOperator": "First",
 "defaultCompressionQuality": 75,
 "defaultResamplingMethod": "Bilinear",
 "maxImageHeight": 4100,
 "maxImageWidth": 15000,
 "allowRasterFunction": true,
 "rasterFunctionInfos": [
  {
   "name": "None",
   "description": "",
   "help": ""
  }
 ],
 "rasterTypeInfos": [
  {
   "name": "Raster Dataset",
   "description": "Supports all ArcGIS Raster Datasets",
   "help": ""
  }
 ],
 "mensurationCapabilities": "",
 "hasHistograms": true,
 "hasColormap": false,
 "hasRasterAttributeTable": false,
 "minScale": 0,
 "maxScale": 0,
 "exportTilesAllowed": false,
 "supportsStatistics": false,
 "supportsAdvancedQueries": false,
 "editFieldsInfo": null,
 "ownershipBasedAccessControlForRasters": null,
 "allowComputeTiePoints": false,
 "useStandardizedQueries": true,
 "advancedQueryCapabilities": {
  "useStandardizedQueries": true,
  "supportsStatistics": false,
  "supportsOrderBy": false,
  "supportsDistinct": false,
  "supportsPagination": false
 },
 "spatialReference": {
  "wkid": null
 }
}
