{
 "currentVersion": 11.3,
 "serviceDescription": "oversvammning100ar",
 "name": "oversvammning100ar",
 "description": "",
 "extent": {
  "xmin": 99443.25545886793,
  "ymin": 6285215.95589,
  "xmax": 179003.25545886793,
  "ymax": 6343239.95589,
  "spatialReference": {
   "wkid": 3009,
   "latestWkid": 3009
  }
 },
 "initialExtent": {
  "xmin": 99443.25545886793,
  "ymin": 6285215.95589,
  "xmax": 179003.25545886793,
  "ymax": 6343239.95589,
  "spatialReference": {
   "wkid": 3009,
   "latestWkid": 3009
  }
 },
 "fullExtent": {
  "xmin": 99443.25545886793,
  "ymin": 6285215.95589,
  "xmax": 179003.25545886793,
  "ymax": 6343239.95589,
  "spatialReference": {
   "wkid": 3009,
   "latestWkid": 3009
  }
 },
 "sortableFields": "",
 "bandCount": 1,
 "pixelType": "F32",
 "minValues": [
  0.10000000149012
 ],
 "maxValues": [
  3.0223999023438
 ],
 "meanValues": [
  0.19506815769253
 ],
 "stdvValues": [
  0.12841834629531
 ],
 "hasMultidimensions": false,
 "pixelSizeX": 4,
 "pixelSizeY": 4,
 "meanPixelSize": 4,
 "datasetFormat": "TIFF",
 "uncompressedSize": 1154097360,
 "blockWidth": 128,
 "blockHeight": 128,
 "compressionType": "None",
 "bandNames": [
  "Band_1"
 ],
 "allowCopy": true,
 "allowAnalysis": true,
 "itemAccess": false,
 "inspectionCapabilities": "",
 "noDataValue": -3.4028230607370965E38,
 "noDataValues": [
  -3.4028230607370965E38
 ],
 "minPixelSize": 0,
 "maxPixelSize": 0,
 "copyrightText": "",
 "serviceDataType": "esriImageServiceDataTypeGeneric",
 "serviceSourceType": "esriImageServiceSourceTypeDataset",
 "objectIdField": "",
 "fields": [],
 "capabilities": "Image,Metadata,Mensuration",
 "defaultMosaicMethod": "Center",
 "allowedMosaicMethods": "",
 "sortField": "",
 "sortValue": null,
 "sortAscending": true,
 "mosaicOperator": "First",
 "defaultCompressionQuality": 75,
 "defaultResamplingMethod": "Bilinear",
 "maxImageHeight": 4100,
 "maxImageWidth": 15000,
 "allowRasterFunction": true,
 "rasterFunctionInfos": [
  {
   "name": "None",
   "description": "",
   "help": ""
  }
 ],
 "rasterTypeInfos": [
  {
   "name": "Raster Dataset",
   "description": "Supports all ArcGIS Raster Datasets",
   "help": ""
  }
 ],
 "mensurationCapabilities": "Basic",
 "hasHistograms": true,
 "hasColormap": false,
 "hasRasterAttributeTable": false,
 "minScale": 0,
 "maxScale": 0,
 "exportTilesAllowed": false,
 "supportsStatistics": false,
 "supportsAdvancedQueries": false,
 "editFieldsInfo": null,
 "ownershipBasedAccessControlForRasters": null,
 "allowComputeTiePoints": false,
 "useStandardizedQueries": true,
 "advancedQueryCapabilities": {
  "useStandardizedQueries": true,
  "supportsStatistics": false,
  "supportsOrderBy": false,
  "supportsDistinct": false,
  "supportsPagination": false
 },
 "spatialReference": {
  "wkid": 3009,
  "latestWkid": 3009
 }
}
