View In:
ArcGIS JavaScript
ArcGIS Online Map Viewer
ArcGIS Earth
Service Description: Flygfoton/Flygfoto_1997_Vaxjo_kommun
Name: Flygfoton/Flygfoto_1997_Vaxjo_kommun
Description:
Single Fused Map Cache: false
Extent:
XMin: 118638.36790954415
YMin: 6280334.217740132
XMax: 158929.36790954415
YMax: 6345091.217740132
Spatial Reference: 3009
(3009)
VCSWkid(105702)
LatestVCSWkid(5613)
Initial Extent:
XMin: 118638.36790954415
YMin: 6280334.217740132
XMax: 158929.36790954415
YMax: 6345091.217740132
Spatial Reference: 3009
(3009)
VCSWkid(105702)
LatestVCSWkid(5613)
Full Extent:
XMin: 118638.36790954415
YMin: 6280334.217740132
XMax: 158929.36790954415
YMax: 6345091.217740132
Spatial Reference: 3009
(3009)
VCSWkid(105702)
LatestVCSWkid(5613)
Pixel Size X: 1.0
Pixel Size Y: 1.0
Band Count: 1
Pixel Type: U8
RasterFunction Infos: {"rasterFunctionInfos": [{
"name": "None",
"description": "",
"help": ""
}]}
Mensuration Capabilities: None
Inspection Capabilities:
Has Histograms: true
Has Colormap: false
Has Multi Dimensions : false
Rendering Rule:
Min Scale: 0
Max Scale: 0
Copyright Text:
Service Data Type: esriImageServiceDataTypeGeneric
Min Values: 0
Max Values: 255
Mean Values: 107.80482920586705
Standard Deviation Values: 36.190531180679635
Object ID Field: OBJECTID
Fields:
-
OBJECTID
(
type: esriFieldTypeOID, alias: OBJECTID
)
-
NAME
(
type: esriFieldTypeString, alias: NAME, length: 50
)
-
MINPS
(
type: esriFieldTypeDouble, alias: MINPS
)
-
MAXPS
(
type: esriFieldTypeDouble, alias: MAXPS
)
-
LOWPS
(
type: esriFieldTypeDouble, alias: LOWPS
)
-
HIGHPS
(
type: esriFieldTypeDouble, alias: HIGHPS
)
-
CATEGORY
(
type: esriFieldTypeInteger, alias: CATEGORY
)
-
TAG
(
type: esriFieldTypeString, alias: TAG, length: 20
)
-
GROUPNAME
(
type: esriFieldTypeString, alias: GROUPNAME, length: 50
)
-
PRODUCTNAME
(
type: esriFieldTypeString, alias: PRODUCTNAME, length: 50
)
-
CENTERX
(
type: esriFieldTypeDouble, alias: CENTERX
)
-
CENTERY
(
type: esriFieldTypeDouble, alias: CENTERY
)
-
ZORDER
(
type: esriFieldTypeDouble, alias: ZORDER
)
-
SORDER
(
type: esriFieldTypeDouble, alias: SORDER
)
-
STEREOID
(
type: esriFieldTypeString, alias: STEREOID, length: 50
)
-
SHAPE
(
type: esriFieldTypeGeometry, alias: SHAPE
)
Default Mosaic Method: Center
Allowed Mosaic Methods: Center,NorthWest,LockRaster,ByAttribute,Nadir,Viewpoint,Seamline,None
SortField:
SortValue: null
Mosaic Operator: First
Default Compression Quality: 75
Default Resampling Method: Bilinear
Max Record Count: 1000
Max Image Height: 4100
Max Image Width: 15000
Max Download Image Count: 20
Max Mosaic Image Count: 20
Allow Raster Function: true
Allow Copy: true
Allow Analysis: true
Allow Compute TiePoints: false
Supports Statistics: true
Supports Advanced Queries: true
Use StandardizedQueries: true
Raster Type Infos:
Name: Raster Dataset
Description: Supports all ArcGIS Raster Datasets
Help:
Has Raster Attribute Table: false
Edit Fields Info: null
Ownership Based AccessControl For Rasters: null
Child Resources:
Info
Histograms
Statistics
Key Properties
Legend
Raster Function Infos
Supported Operations:
Export Image
Query
Identify
Compute Histograms
Compute Statistics Histograms
Get Samples
Compute Class Statistics
Query GPS Info
Find Images
Image to Map
Map to Image
Measure from Image
Image to Map Multiray
Query Boundary
Compute Pixel Location
Compute Angles
Validate
Project