View In:
ArcGIS JavaScript
ArcGIS Online Map Viewer
ArcGIS Earth
Service Description: Hog_funktionella_omraden
Name: Hog_funktionella_omraden
Description:
Single Fused Map Cache: false
Extent:
XMin: 115552.44346638198
YMin: 6273798.663273231
XMax: 166902.44346638198
YMax: 6347858.663273231
Spatial Reference: 3009
(3009)
LatestVCSWkid(0)
Initial Extent:
XMin: 115552.44346638198
YMin: 6273798.663273231
XMax: 166902.44346638198
YMax: 6347858.663273231
Spatial Reference: 3009
(3009)
LatestVCSWkid(0)
Full Extent:
XMin: 115552.44346638198
YMin: 6273798.663273231
XMax: 166902.44346638198
YMax: 6347858.663273231
Spatial Reference: 3009
(3009)
LatestVCSWkid(0)
Pixel Size X: 10.0
Pixel Size Y: 10.0
Band Count: 1
Pixel Type: F32
RasterFunction Infos: {"rasterFunctionInfos": [{
"name": "None",
"description": "",
"help": ""
}]}
Mensuration Capabilities: Basic
Inspection Capabilities:
Has Histograms: true
Has Colormap: false
Has Multi Dimensions : false
Rendering Rule:
Min Scale: 0
Max Scale: 0
Copyright Text:
Service Data Type: esriImageServiceDataTypeGeneric
Min Values: 4.400000095367432
Max Values: 10
Mean Values: 5.83933361074722
Standard Deviation Values: 1.2198912366998644
Object ID Field:
Fields:
None
Default Mosaic Method: Center
Allowed Mosaic Methods:
SortField:
SortValue: null
Mosaic Operator: First
Default Compression Quality: 75
Default Resampling Method: Bilinear
Max Record Count: null
Max Image Height: 4100
Max Image Width: 15000
Max Download Image Count: null
Max Mosaic Image Count: null
Allow Raster Function: true
Allow Copy: true
Allow Analysis: true
Allow Compute TiePoints: false
Supports Statistics: false
Supports Advanced Queries: false
Use StandardizedQueries: true
Raster Type Infos:
Name: Raster Dataset
Description: Supports all ArcGIS Raster Datasets
Help:
Has Raster Attribute Table: false
Edit Fields Info: null
Ownership Based AccessControl For Rasters: null
Child Resources:
Info
Histograms
Statistics
Key Properties
Legend
Raster Function Infos
Supported Operations:
Export Image
Identify
Measure
Compute Histograms
Compute Statistics Histograms
Get Samples
Compute Class Statistics
Query Boundary
Compute Pixel Location
Compute Angles
Validate
Project