View In:
ArcGIS JavaScript
ArcGIS Online Map Viewer
ArcGIS Earth
Service Description: Hollow
Name: Hollow
Description:
Single Fused Map Cache: false
Extent:
XMin: 119125.33952024754
YMin: 6295852.165126741
XMax: 157397.39523102564
YMax: 6317380.196464054
Spatial Reference: 3009
(3009)
VCSWkid(105702)
LatestVCSWkid(5613)
Initial Extent:
XMin: 119125.33952024754
YMin: 6295852.165126741
XMax: 157397.39523102564
YMax: 6317380.196464054
Spatial Reference: 3009
(3009)
VCSWkid(105702)
LatestVCSWkid(5613)
Full Extent:
XMin: 119125.33952024754
YMin: 6295852.165126741
XMax: 157397.39523102564
YMax: 6317380.196464054
Spatial Reference: 3009
(3009)
VCSWkid(105702)
LatestVCSWkid(5613)
Pixel Size X: 19.9333623493636
Pixel Size Y: 19.933362349364216
Band Count: 4
Pixel Type: U8
RasterFunction Infos: {"rasterFunctionInfos": [{
"name": "None",
"description": "",
"help": ""
}]}
Mensuration Capabilities: Basic
Has Histograms: true
Has Colormap: false
Has Multi Dimensions : false
Rendering Rule:
Min Scale: 0
Max Scale: 0
Copyright Text:
Service Data Type: esriImageServiceDataTypeGeneric
Min Values: 0, 0, 0, 0
Max Values: 0, 0, 0, 0
Mean Values: 0, 0, 0, 0
Standard Deviation Values: 0, 0, 0, 0
Object ID Field:
Fields:
None
Default Mosaic Method: Center
Allowed Mosaic Methods:
SortField:
SortValue: null
Mosaic Operator: First
Default Compression Quality: 75
Default Resampling Method: Bilinear
Max Record Count: null
Max Image Height: 4100
Max Image Width: 15000
Max Download Image Count: null
Max Mosaic Image Count: null
Allow Raster Function: true
Allow Copy: true
Allow Analysis: true
Allow Compute TiePoints: false
Supports Statistics: false
Supports Advanced Queries: false
Use StandardizedQueries: true
Raster Type Infos:
Name: Raster Dataset
Description: Supports all ArcGIS Raster Datasets
Help:
Has Raster Attribute Table: false
Edit Fields Info: null
Ownership Based AccessControl For Rasters: null
Child Resources:
Info
Histograms
Statistics
Key Properties
Legend
Raster Function Infos
Supported Operations:
Export Image
Identify
Measure
Compute Histograms
Compute Statistics Histograms
Get Samples
Compute Class Statistics
Query Boundary
Compute Pixel Location
Compute Angles
Validate
Project