View In:
ArcGIS JavaScript
ArcGIS Online Map Viewer
ArcGIS Earth
Service Description: NH/NH_hela_VK_4326
Name: NH/NH_hela_VK_4326
Description:
Single Fused Map Cache: false
Extent:
XMin: 14.461552844546754
YMin: 56.6050258426781
XMax: 15.244490525003936
YMax: 57.229550206444706
Spatial Reference: 4326
(4326)
LatestVCSWkid(0)
Initial Extent:
XMin: 14.461552844546754
YMin: 56.6050258426781
XMax: 15.244490525003936
YMax: 57.229550206444706
Spatial Reference: 4326
(4326)
LatestVCSWkid(0)
Full Extent:
XMin: 14.461552844546754
YMin: 56.6050258426781
XMax: 15.244490525003936
YMax: 57.229550206444706
Spatial Reference: 4326
(4326)
LatestVCSWkid(0)
Pixel Size X: 2.4408831539380925E-5
Pixel Size Y: 2.440883153938105E-5
Band Count: 1
Pixel Type: F32
RasterFunction Infos: {"rasterFunctionInfos": [{
"name": "None",
"description": "",
"help": ""
}]}
Mensuration Capabilities: Basic
Inspection Capabilities:
Has Histograms: true
Has Colormap: false
Has Multi Dimensions : false
Rendering Rule:
Min Scale: 0
Max Scale: 0
Copyright Text:
Service Data Type: esriImageServiceDataTypeGeneric
Min Values: 136.25999450683594
Max Values: 315.3800048828125
Mean Values: 187.20902604452752
Standard Deviation Values: 30.545002406000375
Object ID Field:
Fields:
None
Default Mosaic Method: Center
Allowed Mosaic Methods:
SortField:
SortValue: null
Mosaic Operator: First
Default Compression Quality: 75
Default Resampling Method: Bilinear
Max Record Count: null
Max Image Height: 4100
Max Image Width: 15000
Max Download Image Count: null
Max Mosaic Image Count: null
Allow Raster Function: true
Allow Copy: true
Allow Analysis: true
Allow Compute TiePoints: false
Supports Statistics: false
Supports Advanced Queries: false
Use StandardizedQueries: true
Raster Type Infos:
Name: Raster Dataset
Description: Supports all ArcGIS Raster Datasets
Help:
Has Raster Attribute Table: false
Edit Fields Info: null
Ownership Based AccessControl For Rasters: null
Child Resources:
Info
Histograms
Statistics
Key Properties
Legend
Raster Function Infos
Supported Operations:
Export Image
Identify
Measure
Compute Histograms
Compute Statistics Histograms
Get Samples
Compute Class Statistics
Query Boundary
Compute Pixel Location
Compute Angles
Validate
Project