View In:
ArcGIS JavaScript
ArcGIS Online Map Viewer
ArcGIS Earth
Service Description: TEMP/raster_temp_skyfall2
Name: TEMP/raster_temp_skyfall2
Description:
Single Fused Map Cache: false
Extent:
XMin: 137062.0484027252
YMin: 6305342.098363706
XMax: 139728.0484027252
YMax: 6307614.098363706
Spatial Reference: 3009
(3009)
LatestVCSWkid(0)
Initial Extent:
XMin: 137062.0484027252
YMin: 6305342.098363706
XMax: 139728.0484027252
YMax: 6307614.098363706
Spatial Reference: 3009
(3009)
LatestVCSWkid(0)
Full Extent:
XMin: 137062.0484027252
YMin: 6305342.098363706
XMax: 139728.0484027252
YMax: 6307614.098363706
Spatial Reference: 3009
(3009)
LatestVCSWkid(0)
Pixel Size X: 2.0
Pixel Size Y: 2.0
Band Count: 2
Pixel Type: F32
RasterFunction Infos: {"rasterFunctionInfos": [{
"name": "None",
"description": "",
"help": ""
}]}
Mensuration Capabilities: Basic
Inspection Capabilities:
Has Histograms: true
Has Colormap: false
Has Multi Dimensions : false
Rendering Rule:
Min Scale: 0
Max Scale: 0
Copyright Text:
Service Data Type: esriImageServiceDataTypeVector-UV
Min Values: -3.7438342571258545, -4.023783206939697
Max Values: 4.121218204498291, 3.174262523651123
Mean Values: -0.006418447322382128, -0.10307078063433846
Standard Deviation Values: 0.37847582984481154, 0.36638287450153645
Object ID Field:
Fields:
None
Default Mosaic Method: Center
Allowed Mosaic Methods:
SortField:
SortValue: null
Mosaic Operator: First
Default Compression Quality: 75
Default Resampling Method: Bilinear
Max Record Count: null
Max Image Height: 4100
Max Image Width: 15000
Max Download Image Count: null
Max Mosaic Image Count: null
Allow Raster Function: true
Allow Copy: true
Allow Analysis: true
Allow Compute TiePoints: false
Supports Statistics: false
Supports Advanced Queries: false
Use StandardizedQueries: true
Raster Type Infos:
Name: Raster Dataset
Description: Supports all ArcGIS Raster Datasets
Help:
Has Raster Attribute Table: false
Edit Fields Info: null
Ownership Based AccessControl For Rasters: null
Child Resources:
Info
Histograms
Statistics
Key Properties
Legend
Raster Function Infos
Supported Operations:
Export Image
Identify
Measure
Compute Histograms
Compute Statistics Histograms
Get Samples
Compute Class Statistics
Query Boundary
Compute Pixel Location
Compute Angles
Validate
Project