View In:
ArcGIS JavaScript
ArcGIS Online Map Viewer
ArcGIS Earth
Service Description: image/Vaxjo_hojd_1m
Name: image/Vaxjo_hojd_1m
Description:
Single Fused Map Cache: false
Extent:
XMin: 131499.5
YMin: 6293999.5
XMax: 143987.5
YMax: 6314778.5
Spatial Reference: 3009
(3009)
LatestVCSWkid(0)
Initial Extent:
XMin: 131499.5
YMin: 6293999.5
XMax: 143987.5
YMax: 6314778.5
Spatial Reference: 3009
(3009)
LatestVCSWkid(0)
Full Extent:
XMin: 131499.5
YMin: 6293999.5
XMax: 143987.5
YMax: 6314778.5
Spatial Reference: 3009
(3009)
LatestVCSWkid(0)
Pixel Size X: 1.0
Pixel Size Y: 1.0
Band Count: 1
Pixel Type: F64
RasterFunction Infos: {"rasterFunctionInfos": [{
"name": "None",
"description": "",
"help": ""
}]}
Mensuration Capabilities: Basic
Inspection Capabilities:
Has Histograms: true
Has Colormap: false
Has Multi Dimensions : false
Rendering Rule:
Min Scale: 0
Max Scale: 0
Copyright Text:
Service Data Type: esriImageServiceDataTypeGeneric
Min Values: 135.625
Max Values: 220.8420000000042
Mean Values: 171.92894907601027
Standard Deviation Values: 11.755882807156803
Object ID Field:
Fields:
None
Default Mosaic Method: Center
Allowed Mosaic Methods:
SortField:
SortValue: null
Mosaic Operator: First
Default Compression Quality: 75
Default Resampling Method: Bilinear
Max Record Count: null
Max Image Height: 4100
Max Image Width: 15000
Max Download Image Count: null
Max Mosaic Image Count: null
Allow Raster Function: true
Allow Copy: true
Allow Analysis: true
Allow Compute TiePoints: false
Supports Statistics: false
Supports Advanced Queries: false
Use StandardizedQueries: true
Raster Type Infos:
Name: Raster Dataset
Description: Supports all ArcGIS Raster Datasets
Help:
Has Raster Attribute Table: false
Edit Fields Info: null
Ownership Based AccessControl For Rasters: null
Child Resources:
Info
Histograms
Statistics
Key Properties
Legend
Raster Function Infos
Supported Operations:
Export Image
Identify
Measure
Compute Histograms
Compute Statistics Histograms
Get Samples
Compute Class Statistics
Query Boundary
Compute Pixel Location
Compute Angles
Validate
Project