View In:
ArcGIS JavaScript
ArcGIS Online Map Viewer
ArcGIS Earth
Service Description: Ortofoto från Lantmäteriet med 0,25 cm pixelstorlek från 2017
Name: Flygfoton/flygfoto_2017_portvakten
Description: Ortofoto från Lantmäteriet med 0,25 cm pixelstorlek från 2017
Single Fused Map Cache: false
Extent:
XMin: 138560.5
YMin: 6305174.0
XMax: 139730.25
YMax: 6306111.5
Spatial Reference: 3009
(3009)
LatestVCSWkid(0)
Initial Extent:
XMin: 138560.5
YMin: 6305174.0
XMax: 139730.25
YMax: 6306111.5
Spatial Reference: 3009
(3009)
LatestVCSWkid(0)
Full Extent:
XMin: 138560.5
YMin: 6305174.0
XMax: 139730.25
YMax: 6306111.5
Spatial Reference: 3009
(3009)
LatestVCSWkid(0)
Pixel Size X: 0.25
Pixel Size Y: 0.25
Band Count: 3
Pixel Type: U8
RasterFunction Infos: {"rasterFunctionInfos": [{
"name": "None",
"description": "",
"help": ""
}]}
Mensuration Capabilities: Basic
Inspection Capabilities:
Has Histograms: true
Has Colormap: false
Has Multi Dimensions : false
Rendering Rule:
Min Scale: 0
Max Scale: 0
Copyright Text: Lantmäteriet
Service Data Type: esriImageServiceDataTypeRGB
Min Values: 24, 26, 30
Max Values: 254, 254, 254
Mean Values: 96.92121078900574, 99.75715136283857, 94.09438367957995
Standard Deviation Values: 43.93430390010863, 39.554703011527124, 34.15931094617313
Object ID Field:
Fields:
None
Default Mosaic Method: Center
Allowed Mosaic Methods:
SortField:
SortValue: null
Mosaic Operator: First
Default Compression Quality: 75
Default Resampling Method: Bilinear
Max Record Count: null
Max Image Height: 4100
Max Image Width: 15000
Max Download Image Count: null
Max Mosaic Image Count: null
Allow Raster Function: true
Allow Copy: true
Allow Analysis: true
Allow Compute TiePoints: false
Supports Statistics: false
Supports Advanced Queries: false
Use StandardizedQueries: true
Raster Type Infos:
Name: Raster Dataset
Description: Supports all ArcGIS Raster Datasets
Help:
Has Raster Attribute Table: false
Edit Fields Info: null
Ownership Based AccessControl For Rasters: null
Child Resources:
Info
Histograms
Statistics
Key Properties
Legend
Raster Function Infos
Supported Operations:
Export Image
Identify
Measure
Compute Histograms
Compute Statistics Histograms
Get Samples
Compute Class Statistics
Query Boundary
Compute Pixel Location
Compute Angles
Validate
Project