View In:
ArcGIS JavaScript
ArcGIS Online Map Viewer
ArcGIS Earth
Service Description: Historiska_kartor/Vaxjo_1697
Name: Historiska_kartor/Vaxjo_1697
Description:
Single Fused Map Cache: false
Extent:
XMin: 136132.11666746085
YMin: 6303595.260378785
XMax: 140692.32375265926
YMax: 6308986.940277713
Spatial Reference: 3009
(3009)
VCSWkid(105702)
LatestVCSWkid(5613)
Initial Extent:
XMin: 136132.11666746085
YMin: 6303595.260378785
XMax: 140692.32375265926
YMax: 6308986.940277713
Spatial Reference: 3009
(3009)
VCSWkid(105702)
LatestVCSWkid(5613)
Full Extent:
XMin: 136132.11666746085
YMin: 6303595.260378785
XMax: 140692.32375265926
YMax: 6308986.940277713
Spatial Reference: 3009
(3009)
VCSWkid(105702)
LatestVCSWkid(5613)
Pixel Size X: 0.4699790874160984
Pixel Size Y: 0.42490975639750334
Band Count: 3
Pixel Type: U8
RasterFunction Infos: {"rasterFunctionInfos": [{
"name": "None",
"description": "",
"help": ""
}]}
Mensuration Capabilities: Basic
Inspection Capabilities:
Has Histograms: true
Has Colormap: false
Has Multi Dimensions : false
Rendering Rule:
Min Scale: 0
Max Scale: 0
Copyright Text:
Service Data Type: esriImageServiceDataTypeRGB
Min Values: 0, 0, 0
Max Values: 255, 255, 255
Mean Values: 202.22997001815, 180.51101153704, 152.82627762734
Standard Deviation Values: 88.292902938286, 80.834785683798, 72.608645008431
Object ID Field:
Fields:
None
Default Mosaic Method: Center
Allowed Mosaic Methods:
SortField:
SortValue: null
Mosaic Operator: First
Default Compression Quality: 75
Default Resampling Method: Bilinear
Max Record Count: null
Max Image Height: 4100
Max Image Width: 15000
Max Download Image Count: null
Max Mosaic Image Count: null
Allow Raster Function: true
Allow Copy: true
Allow Analysis: true
Allow Compute TiePoints: false
Supports Statistics: false
Supports Advanced Queries: false
Use StandardizedQueries: true
Raster Type Infos:
Name: Raster Dataset
Description: Supports all ArcGIS Raster Datasets
Help:
Has Raster Attribute Table: false
Edit Fields Info: null
Ownership Based AccessControl For Rasters: null
Child Resources:
Info
Histograms
Statistics
Key Properties
Legend
Raster Function Infos
Supported Operations:
Export Image
Identify
Measure
Compute Histograms
Compute Statistics Histograms
Get Samples
Compute Class Statistics
Query Boundary
Compute Pixel Location
Compute Angles
Validate
Project