View In:
ArcGIS JavaScript
ArcGIS Online Map Viewer
ArcGIS Earth
Service Description: Historiska_kartor/Vaxjo_1783
Name: Historiska_kartor/Vaxjo_1783
Description:
Single Fused Map Cache: false
Extent:
XMin: 137869.99528037527
YMin: 6305452.323175651
XMax: 138887.38698881413
YMax: 6306938.797539355
Spatial Reference: 3009
(3009)
VCSWkid(105702)
LatestVCSWkid(5613)
Initial Extent:
XMin: 137869.99528037527
YMin: 6305452.323175651
XMax: 138887.38698881413
YMax: 6306938.797539355
Spatial Reference: 3009
(3009)
VCSWkid(105702)
LatestVCSWkid(5613)
Full Extent:
XMin: 137869.99528037527
YMin: 6305452.323175651
XMax: 138887.38698881413
YMax: 6306938.797539355
Spatial Reference: 3009
(3009)
VCSWkid(105702)
LatestVCSWkid(5613)
Pixel Size X: 0.16869370061994143
Pixel Size Y: 0.17700337743560515
Band Count: 3
Pixel Type: U8
RasterFunction Infos: {"rasterFunctionInfos": [{
"name": "None",
"description": "",
"help": ""
}]}
Mensuration Capabilities: Basic
Has Histograms: true
Has Colormap: false
Has Multi Dimensions : false
Rendering Rule:
Min Scale: 0
Max Scale: 0
Copyright Text:
Service Data Type: esriImageServiceDataTypeRGB
Min Values: 0, 0, 0
Max Values: 255, 255, 255
Mean Values: 155.07716523691, 149.96774879362, 135.73273294771
Standard Deviation Values: 101.2384740156, 99.680219854917, 92.429396555737
Object ID Field:
Fields:
None
Default Mosaic Method: Center
Allowed Mosaic Methods:
SortField:
SortValue: null
Mosaic Operator: First
Default Compression Quality: 75
Default Resampling Method: Bilinear
Max Record Count: null
Max Image Height: 4100
Max Image Width: 15000
Max Download Image Count: null
Max Mosaic Image Count: null
Allow Raster Function: true
Allow Copy: true
Allow Analysis: true
Allow Compute TiePoints: false
Supports Statistics: false
Supports Advanced Queries: false
Use StandardizedQueries: true
Raster Type Infos:
Name: Raster Dataset
Description: Supports all ArcGIS Raster Datasets
Help:
Has Raster Attribute Table: false
Edit Fields Info: null
Ownership Based AccessControl For Rasters: null
Child Resources:
Info
Histograms
Statistics
Key Properties
Legend
Raster Function Infos
Supported Operations:
Export Image
Identify
Measure
Compute Histograms
Compute Statistics Histograms
Get Samples
Compute Class Statistics
Query Boundary
Compute Pixel Location
Compute Angles
Validate
Project