View In:
ArcGIS JavaScript
ArcGIS Online Map Viewer
ArcGIS Earth
Service Description: Historiska_kartor/Vaxjo_1948
Name: Historiska_kartor/Vaxjo_1948
Description:
Single Fused Map Cache: false
Extent:
XMin: 135594.33437637927
YMin: 6304430.0569605855
XMax: 141121.48634940584
YMax: 6308844.767386156
Spatial Reference: 3009
(3009)
LatestVCSWkid(0)
Initial Extent:
XMin: 135594.33437637927
YMin: 6304430.0569605855
XMax: 141121.48634940584
YMax: 6308844.767386156
Spatial Reference: 3009
(3009)
LatestVCSWkid(0)
Full Extent:
XMin: 135594.33437637927
YMin: 6304430.0569605855
XMax: 141121.48634940584
YMax: 6308844.767386156
Spatial Reference: 3009
(3009)
LatestVCSWkid(0)
Pixel Size X: 0.6929729153744448
Pixel Size Y: 0.6933737121989331
Band Count: 3
Pixel Type: U8
RasterFunction Infos: {"rasterFunctionInfos": [{
"name": "None",
"description": "",
"help": ""
}]}
Mensuration Capabilities: Basic
Inspection Capabilities:
Has Histograms: true
Has Colormap: false
Has Multi Dimensions : false
Rendering Rule:
Min Scale: 0
Max Scale: 0
Copyright Text:
Service Data Type: esriImageServiceDataTypeRGB
Min Values: 0, 0, 0
Max Values: 255, 255, 255
Mean Values: 238.59759183713, 216.09403365187, 159.39244399998
Standard Deviation Values: 35.202198337894, 31.463381996092, 32.55104147624
Object ID Field:
Fields:
None
Default Mosaic Method: Center
Allowed Mosaic Methods:
SortField:
SortValue: null
Mosaic Operator: First
Default Compression Quality: 75
Default Resampling Method: Bilinear
Max Record Count: null
Max Image Height: 4100
Max Image Width: 15000
Max Download Image Count: null
Max Mosaic Image Count: null
Allow Raster Function: true
Allow Copy: true
Allow Analysis: true
Allow Compute TiePoints: false
Supports Statistics: false
Supports Advanced Queries: false
Use StandardizedQueries: true
Raster Type Infos:
Name: Raster Dataset
Description: Supports all ArcGIS Raster Datasets
Help:
Has Raster Attribute Table: false
Edit Fields Info: null
Ownership Based AccessControl For Rasters: null
Child Resources:
Info
Histograms
Statistics
Key Properties
Legend
Raster Function Infos
Supported Operations:
Export Image
Identify
Measure
Compute Histograms
Compute Statistics Histograms
Get Samples
Compute Class Statistics
Query Boundary
Compute Pixel Location
Compute Angles
Validate
Project