View In:
ArcGIS JavaScript
ArcGIS Online Map Viewer
ArcGIS Earth
Service Description: oversvammning100ar
Name: oversvammning100ar
Description:
Single Fused Map Cache: false
Extent:
XMin: 99443.25545886793
YMin: 6285215.95589
XMax: 179003.25545886793
YMax: 6343239.95589
Spatial Reference: 3009
(3009)
LatestVCSWkid(0)
Initial Extent:
XMin: 99443.25545886793
YMin: 6285215.95589
XMax: 179003.25545886793
YMax: 6343239.95589
Spatial Reference: 3009
(3009)
LatestVCSWkid(0)
Full Extent:
XMin: 99443.25545886793
YMin: 6285215.95589
XMax: 179003.25545886793
YMax: 6343239.95589
Spatial Reference: 3009
(3009)
LatestVCSWkid(0)
Pixel Size X: 4.0
Pixel Size Y: 4.0
Band Count: 1
Pixel Type: F32
RasterFunction Infos: {"rasterFunctionInfos": [{
"name": "None",
"description": "",
"help": ""
}]}
Mensuration Capabilities: Basic
Inspection Capabilities:
Has Histograms: true
Has Colormap: false
Has Multi Dimensions : false
Rendering Rule:
Min Scale: 0
Max Scale: 0
Copyright Text:
Service Data Type: esriImageServiceDataTypeGeneric
Min Values: 0.10000000149012
Max Values: 3.0223999023438
Mean Values: 0.19506815769253
Standard Deviation Values: 0.12841834629531
Object ID Field:
Fields:
None
Default Mosaic Method: Center
Allowed Mosaic Methods:
SortField:
SortValue: null
Mosaic Operator: First
Default Compression Quality: 75
Default Resampling Method: Bilinear
Max Record Count: null
Max Image Height: 4100
Max Image Width: 15000
Max Download Image Count: null
Max Mosaic Image Count: null
Allow Raster Function: true
Allow Copy: true
Allow Analysis: true
Allow Compute TiePoints: false
Supports Statistics: false
Supports Advanced Queries: false
Use StandardizedQueries: true
Raster Type Infos:
Name: Raster Dataset
Description: Supports all ArcGIS Raster Datasets
Help:
Has Raster Attribute Table: false
Edit Fields Info: null
Ownership Based AccessControl For Rasters: null
Child Resources:
Info
Histograms
Statistics
Key Properties
Legend
Raster Function Infos
Supported Operations:
Export Image
Identify
Measure
Compute Histograms
Compute Statistics Histograms
Get Samples
Compute Class Statistics
Query Boundary
Compute Pixel Location
Compute Angles
Validate
Project